Workbook

Sheet MÜ
A1: Koht | B1: Rahvus | C1: Klubi | D1: Nimi | E1: RSL GP-1 10.-11.10.26 | F1: Punkte 13.10.26 | G1: Võistluste arv
A2: =RANK(F2,$F$2:F60) -> 1 | B2: EST | C2: Triiton | D2: Tauri Kilk | E2: 660 | F2: {=IF(G2<6,SUM(E2:E2),SUM(LARGE(E2:E2,{1;2;3;4;5;6})))} -> 660 | G2: =COUNT(E2:E2) -> 1
A3: =RANK(F3,$F$2:F60) -> 2 | B3: EST | C3: Tondiraba SK | D3: Andrei Kägo | E3: 560 | F3: {=IF(G3<6,SUM(E3:E3),SUM(LARGE(E3:E3,{1;2;3;4;5;6})))} -> 560 | G3: =COUNT(E3:E3) -> 1
A4: =RANK(F4,$F$2:F60) -> 3 | B4: EST | C4: Raul Must SK | D4: Raul Must | E4: 500 | F4: {=IF(G4<6,SUM(E4:E4),SUM(LARGE(E4:E4,{1;2;3;4;5;6})))} -> 500 | G4: =COUNT(E4:E4) -> 1
A5: =RANK(F5,$F$2:F60) -> 4 | B5: EST | C5: Nõo SK | D5: Andre Looskari | E5: 460 | F5: {=IF(G5<6,SUM(E5:E5),SUM(LARGE(E5:E5,{1;2;3;4;5;6})))} -> 460 | G5: =COUNT(E5:E5) -> 1
A6: =RANK(F6,$F$2:F60) -> 5 | B6: EST | C6: Veeriku Badminton | D6: Karl Kert | E6: 360 | F6: {=IF(G6<6,SUM(E6:E6),SUM(LARGE(E6:E6,{1;2;3;4;5;6})))} -> 360 | G6: =COUNT(E6:E6) -> 1
A7: =RANK(F7,$F$2:F60) -> 5 | B7: EST | C7: TSKeskus | D7: Arturi Asperk | E7: 360 | F7: {=IF(G7<6,SUM(E7:E7),SUM(LARGE(E7:E7,{1;2;3;4;5;6})))} -> 360 | G7: =COUNT(E7:E7) -> 1
A8: =RANK(F8,$F$2:F60) -> 5 | B8: EST | C8: TÜASK | D8: Mikk Järveoja | E8: 360 | F8: {=IF(G8<6,SUM(E8:E8),SUM(LARGE(E8:E8,{1;2;3;4;5;6})))} -> 360 | G8: =COUNT(E8:E8) -> 1
A9: =RANK(F9,$F$2:F60) -> 5 | B9: EST | C9: Tondiraba SK | D9: Andre Martin Reins | E9: 360 | F9: {=IF(G9<6,SUM(E9:E9),SUM(LARGE(E9:E9,{1;2;3;4;5;6})))} -> 360 | G9: =COUNT(E9:E9) -> 1
A10: =RANK(F10,$F$2:F60) -> 9 | B10: EST | C10: TSKeskus | D10: Hendrik Jekimov | E10: 300 | F10: {=IF(G10<6,SUM(E10:E10),SUM(LARGE(E10:E10,{1;2;3;4;5;6})))} -> 300 | G10: =COUNT(E10:E10) -> 1
A11: =RANK(F11,$F$2:F60) -> 10 | B11: EST | C11: TSKeskus | D11: Albert Leis | E11: 260 | F11: {=IF(G11<6,SUM(E11:E11),SUM(LARGE(E11:E11,{1;2;3;4;5;6})))} -> 260 | G11: =COUNT(E11:E11) -> 1
A12: =RANK(F12,$F$2:F60) -> 10 | B12: LAT | D12: Artūrs Ķelpe | E12: 260 | F12: {=IF(G12<6,SUM(E12:E12),SUM(LARGE(E12:E12,{1;2;3;4;5;6})))} -> 260 | G12: =COUNT(E12:E12) -> 1
A13: =RANK(F13,$F$2:F60) -> 12 | B13: EST | C13: Tallinna SK | D13: Sven Oja | E13: 250 | F13: {=IF(G13<6,SUM(E13:E13),SUM(LARGE(E13:E13,{1;2;3;4;5;6})))} -> 250 | G13: =COUNT(E13:E13) -> 1
A14: =RANK(F14,$F$2:F60) -> 13 | B14: EST | C14: TSKeskus | D14: Karel Põldma | E14: 215 | F14: {=IF(G14<6,SUM(E14:E14),SUM(LARGE(E14:E14,{1;2;3;4;5;6})))} -> 215 | G14: =COUNT(E14:E14) -> 1
A15: =RANK(F15,$F$2:F60) -> 14 | B15: EST | C15: TÜASK | D15: Jaanus Saar | E15: 190 | F15: {=IF(G15<6,SUM(E15:E15),SUM(LARGE(E15:E15,{1;2;3;4;5;6})))} -> 190 | G15: =COUNT(E15:E15) -> 1
A16: =RANK(F16,$F$2:F60) -> 15 | B16: EST | C16: TSKeskus | D16: Roland Braschinsky | E16: 160 | F16: {=IF(G16<6,SUM(E16:E16),SUM(LARGE(E16:E16,{1;2;3;4;5;6})))} -> 160 | G16: =COUNT(E16:E16) -> 1
A17: =RANK(F17,$F$2:F60) -> 16 | B17: EST | C17: Ulsans | D17: Viktor Šleimovitš | E17: 146 | F17: {=IF(G17<6,SUM(E17:E17),SUM(LARGE(E17:E17,{1;2;3;4;5;6})))} -> 146 | G17: =COUNT(E17:E17) -> 1
A18: =RANK(F18,$F$2:F60) -> 16 | B18: EST | C18: TSKeskus | D18: Iko Viik | E18: 146 | F18: {=IF(G18<6,SUM(E18:E18),SUM(LARGE(E18:E18,{1;2;3;4;5;6})))} -> 146 | G18: =COUNT(E18:E18) -> 1
A19: =RANK(F19,$F$2:F60) -> 16 | B19: EST | C19: Tondiraba SK | D19: Erik Marksoo | E19: 146 | F19: {=IF(G19<6,SUM(E19:E19),SUM(LARGE(E19:E19,{1;2;3;4;5;6})))} -> 146 | G19: =COUNT(E19:E19) -> 1
A20: =RANK(F20,$F$2:F60) -> 16 | B20: EST | C20: TSKeskus | D20: Alexander Linnamägi | E20: 146 | F20: {=IF(G20<6,SUM(E20:E20),SUM(LARGE(E20:E20,{1;2;3;4;5;6})))} -> 146 | G20: =COUNT(E20:E20) -> 1
A21: =RANK(F21,$F$2:F60) -> 16 | B21: EST | C21: Tondiraba SK | D21: Pavel Iljin | E21: 146 | F21: {=IF(G21<6,SUM(E21:E21),SUM(LARGE(E21:E21,{1;2;3;4;5;6})))} -> 146 | G21: =COUNT(E21:E21) -> 1
A22: =RANK(F22,$F$2:F60) -> 21 | B22: EST | C22: Triiton | D22: Oleh Kulieshov | E22: 130 | F22: {=IF(G22<6,SUM(E22:E22),SUM(LARGE(E22:E22,{1;2;3;4;5;6})))} -> 130 | G22: =COUNT(E22:E22) -> 1
A23: =RANK(F23,$F$2:F60) -> 22 | B23: EST | C23: Raul Must SK | D23: Karl Erik Kompus | E23: 125 | F23: {=IF(G23<6,SUM(E23:E23),SUM(LARGE(E23:E23,{1;2;3;4;5;6})))} -> 125 | G23: =COUNT(E23:E23) -> 1
A24: =RANK(F24,$F$2:F60) -> 22 | B24: EST | C24: Tondiraba SK | D24: Marti Arak | E24: 125 | F24: {=IF(G24<6,SUM(E24:E24),SUM(LARGE(E24:E24,{1;2;3;4;5;6})))} -> 125 | G24: =COUNT(E24:E24) -> 1
A25: =RANK(F25,$F$2:F60) -> 22 | B25: EST | C25: Raul Must SK | D25: Joel Mislav Kunst | E25: 125 | F25: {=IF(G25<6,SUM(E25:E25),SUM(LARGE(E25:E25,{1;2;3;4;5;6})))} -> 125 | G25: =COUNT(E25:E25) -> 1
A26: =RANK(F26,$F$2:F60) -> 22 | B26: EST | C26: TSKeskus | D26: Samuel Tarbe | E26: 125 | F26: {=IF(G26<6,SUM(E26:E26),SUM(LARGE(E26:E26,{1;2;3;4;5;6})))} -> 125 | G26: =COUNT(E26:E26) -> 1
A27: =RANK(F27,$F$2:F60) -> 26 | B27: EST | C27: TSKeskus | D27: Ranno Põldma | E27: 100 | F27: {=IF(G27<6,SUM(E27:E27),SUM(LARGE(E27:E27,{1;2;3;4;5;6})))} -> 100 | G27: =COUNT(E27:E27) -> 1
A28: =RANK(F28,$F$2:F60) -> 27 | B28: EST | C28: Kuuse | D28: Jüri Lattik | E28: 91.5 | F28: {=IF(G28<6,SUM(E28:E28),SUM(LARGE(E28:E28,{1;2;3;4;5;6})))} -> 91.5 | G28: =COUNT(E28:E28) -> 1
A29: =RANK(F29,$F$2:F60) -> 28 | B29: EST | C29: Tondiraba SK | D29: Ervin Lumberg | E29: 80 | F29: {=IF(G29<6,SUM(E29:E29),SUM(LARGE(E29:E29,{1;2;3;4;5;6})))} -> 80 | G29: =COUNT(E29:E29) -> 1
A30: =RANK(F30,$F$2:F60) -> 29 | B30: EST | C30: Nõo SK | D30: Ruben-Naatan Kubri | E30: 70 | F30: {=IF(G30<6,SUM(E30:E30),SUM(LARGE(E30:E30,{1;2;3;4;5;6})))} -> 70 | G30: =COUNT(E30:E30) -> 1
A31: =RANK(F31,$F$2:F60) -> 30 | B31: EST | C31: TSKeskus | D31: Indrek Tupp | E31: 55 | F31: {=IF(G31<6,SUM(E31:E31),SUM(LARGE(E31:E31,{1;2;3;4;5;6})))} -> 55 | G31: =COUNT(E31:E31) -> 1
A32: =RANK(F32,$F$2:F60) -> 30 | B32: EST | C32: Kiili | D32: Mait Allas | E32: 55 | F32: {=IF(G32<6,SUM(E32:E32),SUM(LARGE(E32:E32,{1;2;3;4;5;6})))} -> 55 | G32: =COUNT(E32:E32) -> 1
A33: =RANK(F33,$F$2:F60) -> 30 | B33: EST | C33: Tondiraba SK | D33: Matvei Iljin | E33: 55 | F33: {=IF(G33<6,SUM(E33:E33),SUM(LARGE(E33:E33,{1;2;3;4;5;6})))} -> 55 | G33: =COUNT(E33:E33) -> 1
A34: =RANK(F34,$F$2:F60) -> 30 | B34: IND | C34: TTÜ | D34: Shakti Singh | E34: 55 | F34: {=IF(G34<6,SUM(E34:E34),SUM(LARGE(E34:E34,{1;2;3;4;5;6})))} -> 55 | G34: =COUNT(E34:E34) -> 1
A35: =RANK(F35,$F$2:F60) -> 34 | B35: EST | C35: Raul Must SK | D35: Melvin Rui | E35: 45 | F35: {=IF(G35<6,SUM(E35:E35),SUM(LARGE(E35:E35,{1;2;3;4;5;6})))} -> 45 | G35: =COUNT(E35:E35) -> 1
A36: =RANK(F36,$F$2:F60) -> 34 | B36: EST | D36: Priit Raudkivi | E36: 45 | F36: {=IF(G36<6,SUM(E36:E36),SUM(LARGE(E36:E36,{1;2;3;4;5;6})))} -> 45 | G36: =COUNT(E36:E36) -> 1
A37: =RANK(F37,$F$2:F60) -> 34 | B37: EST | C37: TSKeskus | D37: Lennart Reintam | E37: 45 | F37: {=IF(G37<6,SUM(E37:E37),SUM(LARGE(E37:E37,{1;2;3;4;5;6})))} -> 45 | G37: =COUNT(E37:E37) -> 1
A38: =RANK(F38,$F$2:F60) -> 34 | B38: EST | D38: Artur Lasimer | E38: 45 | F38: {=IF(G38<6,SUM(E38:E38),SUM(LARGE(E38:E38,{1;2;3;4;5;6})))} -> 45 | G38: =COUNT(E38:E38) -> 1
A39: =RANK(F39,$F$2:F60) -> 34 | B39: EST | C39: TSKeskus | D39: Kristjan van de Runstraat | E39: 45 | F39: {=IF(G39<6,SUM(E39:E39),SUM(LARGE(E39:E39,{1;2;3;4;5;6})))} -> 45 | G39: =COUNT(E39:E39) -> 1
A40: =RANK(F40,$F$2:F60) -> 34 | B40: EST | C40: TSKeskus | D40: Art Vallikivi | E40: 45 | F40: {=IF(G40<6,SUM(E40:E40),SUM(LARGE(E40:E40,{1;2;3;4;5;6})))} -> 45 | G40: =COUNT(E40:E40) -> 1
...

Sheet NÜ
A1: Koht | B1: Rahvus | C1: Klubi | D1: Nimi | E1: RSL GP-1 10.-11.10.26 | F1: Punkte 12.10.26 | G1: Võistluste arv
A2: =RANK(F2,$F$2:F60) -> 1 | B2: EST | C2: Triiton | D2: Carmella Krislin Kruus | E2: 660 | F2: {=IF(G2<6,SUM(E2:E2),SUM(LARGE(E2:E2,{1;2;3;4;5;6})))} -> 660 | G2: =COUNT(E2:E2) -> 1
A3: =RANK(F3,$F$2:F61) -> 2 | B3: EST | C3: Tondiraba SK | D3: Sandra Kamilova | E3: 560 | F3: {=IF(G3<6,SUM(E3:E3),SUM(LARGE(E3:E3,{1;2;3;4;5;6})))} -> 560 | G3: =COUNT(E3:E3) -> 1
A4: =RANK(F4,$F$2:F62) -> 3 | B4: EST | C4: Tondiraba SK | D4: Eliise-Kristiina Altmäe | E4: 500 | F4: {=IF(G4<6,SUM(E4:E4),SUM(LARGE(E4:E4,{1;2;3;4;5;6})))} -> 500 | G4: =COUNT(E4:E4) -> 1
A5: =RANK(F5,$F$2:F63) -> 4 | B5: EST | C5: Triiton | D5: Marelle Salu | E5: 460 | F5: {=IF(G5<6,SUM(E5:E5),SUM(LARGE(E5:E5,{1;2;3;4;5;6})))} -> 460 | G5: =COUNT(E5:E5) -> 1
A6: =RANK(F6,$F$2:F64) -> 5 | B6: EST | C6: TSKeskus | D6: Maria Somova | E6: 360 | F6: {=IF(G6<6,SUM(E6:E6),SUM(LARGE(E6:E6,{1;2;3;4;5;6})))} -> 360 | G6: =COUNT(E6:E6) -> 1
A7: =RANK(F7,$F$2:F65) -> 6 | B7: EST | C7: Raul Must SK | D7: Kirsika Vaidla | E7: 300 | F7: {=IF(G7<6,SUM(E7:E7),SUM(LARGE(E7:E7,{1;2;3;4;5;6})))} -> 300 | G7: =COUNT(E7:E7) -> 1
A8: =RANK(F8,$F$2:F66) -> 7 | B8: EST | C8: Raul Must SK | D8: Ellen Mai Lassi | E8: 250 | F8: {=IF(G8<6,SUM(E8:E8),SUM(LARGE(E8:E8,{1;2;3;4;5;6})))} -> 250 | G8: =COUNT(E8:E8) -> 1
A9: =RANK(F9,$F$2:F67) -> 8 | B9: EST | C9: Veeriku Badminton | D9: Marta Helena Pallon | E9: 215 | F9: {=IF(G9<6,SUM(E9:E9),SUM(LARGE(E9:E9,{1;2;3;4;5;6})))} -> 215 | G9: =COUNT(E9:E9) -> 1
A10: =RANK(F10,$F$2:F68) -> 9 | B10: EST | C10: Tondiraba SK | D10: Kaisa Mälberg | E10: 190 | F10: {=IF(G10<6,SUM(E10:E10),SUM(LARGE(E10:E10,{1;2;3;4;5;6})))} -> 190 | G10: =COUNT(E10:E10) -> 1
A11: =RANK(F11,$F$2:F69) -> 10 | B11: EST | C11: Triiton | D11: Hannele Pärn | E11: 160 | F11: {=IF(G11<6,SUM(E11:E11),SUM(LARGE(E11:E11,{1;2;3;4;5;6})))} -> 160 | G11: =COUNT(E11:E11) -> 1
A12: =RANK(F12,$F$2:F70) -> 10 | B12: EST | C12: TSKeskus | D12: Loore-Lisete Kadai | E12: 160 | F12: {=IF(G12<6,SUM(E12:E12),SUM(LARGE(E12:E12,{1;2;3;4;5;6})))} -> 160 | G12: =COUNT(E12:E12) -> 1
A13: =RANK(F13,$F$2:F71) -> 10 | B13: EST | C13: TSKeskus | D13: Jasmine Äniline | E13: 160 | F13: {=IF(G13<6,SUM(E13:E13),SUM(LARGE(E13:E13,{1;2;3;4;5;6})))} -> 160 | G13: =COUNT(E13:E13) -> 1
... A26: =RANK(F26,$F$2:F84) -> 22 | B26: EST | C26: TSKeskus | D26: Teele Peerna | E26: 45 | F26: {=IF(G26<6,SUM(E26:E26),SUM(LARGE(E26:E26,{1;2;3;4;5;6})))} -> 45 | G26: =COUNT(E26:E26) -> 1
A27: =RANK(F27,$F$2:F85) -> 22 | B27: EST | D27: Shujia Liu | E27: 45 | F27: {=IF(G27<6,SUM(E27:E27),SUM(LARGE(E27:E27,{1;2;3;4;5;6})))} -> 45 | G27: =COUNT(E27:E27) -> 1
A28: =RANK(F28,$F$2:F86) -> 27 | B28: EST | C28: TSKeskus | D28: Grettel Luts | E28: 0 | F28: {=IF(G28<6,SUM(E28:E28),SUM(LARGE(E28:E28,{1;2;3;4;5;6})))} -> 0 | G28: =COUNT(E28:E28) -> 1
A29: =RANK(F29,$F$2:F87) -> 27 | B29: EST | C29: Triiton | D29: Emilia Šapovalova | E29: 0 | F29: {=IF(G29<6,SUM(E29:E29),SUM(LARGE(E29:E29,{1;2;3;4;5;6})))} -> 0 | G29: =COUNT(E29:E29) -> 1

Sheet MP
A1: Koht | B1: Rahvus | C1: Klubi | D1: Nimi | E1: RSL GP-1 10.-11.10.26 | F1: Punkte 12.10.26 | G1: Võistluste arv
A2: =RANK(F2,$F$2:F60) -> 1 | B2: EST | C2: Triiton | D2: Hugo Themas | E2: 660 | F2: {=IF(G2<6,SUM(E2:E2),SUM(LARGE(E2:E2,{1;2;3;4;5;6})))} -> 660 | G2: =COUNT(E2:E2) -> 1
A3: =RANK(F3,$F$2:F61) -> 1 | B3: EST | C3: Veeriku Badminton | D3: Karl Kert | E3: 660 | F3: {=IF(G3<6,SUM(E3:E3),SUM(LARGE(E3:E3,{1;2;3;4;5;6})))} -> 660 | G3: =COUNT(E3:E3) -> 1
A4: =RANK(F4,$F$2:F62) -> 3 | B4: EST | C4: TÜASK | D4: Kristjan Kaljurand | E4: 560 | F4: {=IF(G4<6,SUM(E4:E4),SUM(LARGE(E4:E4,{1;2;3;4;5;6})))} -> 560 | G4: =COUNT(E4:E4) -> 1
A5: =RANK(F5,$F$2:F63) -> 3 | B5: EST | C5: Triiton | D5: Raul Käsner | E5: 560 | F5: {=IF(G5<6,SUM(E5:E5),SUM(LARGE(E5:E5,{1;2;3;4;5;6})))} -> 560 | G5: =COUNT(E5:E5) -> 1
A6: =RANK(F6,$F$2:F64) -> 5 | B6: EST | C6: Triiton | D6: Kaspar Sorge | E6: 500 | F6: {=IF(G6<6,SUM(E6:E6),SUM(LARGE(E6:E6,{1;2;3;4;5;6})))} -> 500 | G6: =COUNT(E6:E6) -> 1
A7: =RANK(F7,$F$2:F65) -> 5 | B7: EST | C7: Triiton | D7: Marten Põder | E7: 500 | F7: {=IF(G7<6,SUM(E7:E7),SUM(LARGE(E7:E7,{1;2;3;4;5;6})))} -> 500 | G7: =COUNT(E7:E7) -> 1
A8: =RANK(F8,$F$2:F66) -> 7 | B8: EST | C8: Triiton | D8: Mihkel Laanes | E8: 393.5 | F8: {=IF(G8<6,SUM(E8:E8),SUM(LARGE(E8:E8,{1;2;3;4;5;6})))} -> 393.5 | G8: =COUNT(E8:E8) -> 1
A9: =RANK(F9,$F$2:F67) -> 7 | B9: EST | C9: TÜASK | D9: Mikk Järveoja | E9: 393.5 | F9: {=IF(G9<6,SUM(E9:E9),SUM(LARGE(E9:E9,{1;2;3;4;5;6})))} -> 393.5 | G9: =COUNT(E9:E9) -> 1
A10: =RANK(F10,$F$2:F68) -> 7 | B10: EST | C10: Nõo SK | D10: Andre Looskari | E10: 393.5 | F10: {=IF(G10<6,SUM(E10:E10),SUM(LARGE(E10:E10,{1;2;3;4;5;6})))} -> 393.5 | G10: =COUNT(E10:E10) -> 1
A11: =RANK(F11,$F$2:F69) -> 7 | B11: EST | C11: TSKeskus | D11: Albert Leis | E11: 393.5 | F11: {=IF(G11<6,SUM(E11:E11),SUM(LARGE(E11:E11,{1;2;3;4;5;6})))} -> 393.5 | G11: =COUNT(E11:E11) -> 1
A12: =RANK(F12,$F$2:F70) -> 7 | B12: EST | C12: Veeriku Badminton | D12: Artur Ajupov | E12: 393.5 | F12: {=IF(G12<6,SUM(E12:E12),SUM(LARGE(E12:E12,{1;2;3;4;5;6})))} -> 393.5 | G12: =COUNT(E12:E12) -> 1
A13: =RANK(F13,$F$2:F71) -> 7 | B13: EST | C13: Triiton | D13: Anton Berik | E13: 393.5 | F13: {=IF(G13<6,SUM(E13:E13),SUM(LARGE(E13:E13,{1;2;3;4;5;6})))} -> 393.5 | G13: =COUNT(E13:E13) -> 1
... A38: =RANK(F38,$F$2:F96) -> 37 | B38: EST | C38: TSKeskus | D38: Nikita Bezsonov | E38: 0 | F38: {=IF(G38<6,SUM(E38:E38),SUM(LARGE(E38:E38,{1;2;3;4;5;6})))} -> 0 | G38: =COUNT(E38:E38) -> 1
A39: =RANK(F39,$F$2:F97) -> 37 | B39: EST | D39: Karl Kivinurm | E39: 0 | F39: {=IF(G39<6,SUM(E39:E39),SUM(LARGE(E39:E39,{1;2;3;4;5;6})))} -> 0 | G39: =COUNT(E39:E39) -> 1
A40: =RANK(F40,$F$2:F98) -> 37 | B40: EST | C40: TSKeskus | D40: Alexander Linnamägi | E40: 0 | F40: {=IF(G40<6,SUM(E40:E40),SUM(LARGE(E40:E40,{1;2;3;4;5;6})))} -> 0 | G40: =COUNT(E40:E40) -> 1
A41: =RANK(F41,$F$2:F99) -> 37 | B41: EST | C41: SK Fookus | D41: Karmo Kuurberg | E41: 0 | F41: {=IF(G41<6,SUM(E41:E41),SUM(LARGE(E41:E41,{1;2;3;4;5;6})))} -> 0 | G41: =COUNT(E41:E41) -> 1
A42: =RANK(F42,$F$2:F100) -> 37 | B42: EST | C42: SK Fookus | D42: Lauri Reilson | E42: 0 | F42: {=IF(G42<6,SUM(E42:E42),SUM(LARGE(E42:E42,{1;2;3;4;5;6})))} -> 0 | G42: =COUNT(E42:E42) -> 1
A43: =RANK(F43,$F$2:F101) -> 37 | B43: EST | C43: TSKeskus | D43: Iko Viik | E43: 0 | F43: {=IF(G43<6,SUM(E43:E43),SUM(LARGE(E43:E43,{1;2;3;4;5;6})))} -> 0 | G43: =COUNT(E43:E43) -> 1

Sheet NP
A1: Koht | B1: Rahvus | C1: Klubi | D1: Nimi | E1: RSL GP-1 10.-11.10.26 | F1: Punkte 12.10.26 | G1: Võistluste arv
A2: =RANK(F2,$F$2:F60) -> 1 | B2: EST | C2: Triiton | D2: Elisaveta Berik | E2: 660 | F2: {=IF(G2<6,SUM(E2:E2),SUM(LARGE(E2:E2,{1;2;3;4;5;6})))} -> 660 | G2: =COUNT(E2:E2) -> 1
A3: =RANK(F3,$F$2:F61) -> 1 | B3: EST | C3: TÜASK | D3: Heili Merisalu | E3: 660 | F3: {=IF(G3<6,SUM(E3:E3),SUM(LARGE(E3:E3,{1;2;3;4;5;6})))} -> 660 | G3: =COUNT(E3:E3) -> 1
A4: =RANK(F4,$F$2:F62) -> 3 | B4: EST | C4: Veeriku Badminton | D4: Ulla Helm | E4: 560 | F4: {=IF(G4<6,SUM(E4:E4),SUM(LARGE(E4:E4,{1;2;3;4;5;6})))} -> 560 | G4: =COUNT(E4:E4) -> 1
A5: =RANK(F5,$F$2:F63) -> 3 | B5: EST | C5: Tallinna Kalev | D5: Kai-Riin Saluste | E5: 560 | F5: {=IF(G5<6,SUM(E5:E5),SUM(LARGE(E5:E5,{1;2;3;4;5;6})))} -> 560 | G5: =COUNT(E5:E5) -> 1
A6: =RANK(F6,$F$2:F64) -> 5 | B6: EST | C6: TSKeskus | D6: Loore-Lisete Kadai | E6: 300 | F6: {=IF(G6<6,SUM(E6:E6),SUM(LARGE(E6:E6,{1;2;3;4;5;6})))} -> 300 | G6: =COUNT(E6:E6) -> 1
A7: =RANK(F7,$F$2:F65) -> 5 | B7: EST | C7: TSKeskus | D7: Grettel Luts | E7: 300 | F7: {=IF(G7<6,SUM(E7:E7),SUM(LARGE(E7:E7,{1;2;3;4;5;6})))} -> 300 | G7: =COUNT(E7:E7) -> 1
A8: =RANK(F8,$F$2:F66) -> 7 | B8: EST | C8: TSKeskus | D8: Helene Pähkel | E8: 250 | F8: {=IF(G8<6,SUM(E8:E8),SUM(LARGE(E8:E8,{1;2;3;4;5;6})))} -> 250 | G8: =COUNT(E8:E8) -> 1
A9: =RANK(F9,$F$2:F67) -> 7 | B9: EST | C9: TSKeskus | D9: Maria Somova | E9: 250 | F9: {=IF(G9<6,SUM(E9:E9),SUM(LARGE(E9:E9,{1;2;3;4;5;6})))} -> 250 | G9: =COUNT(E9:E9) -> 1
A10: =RANK(F10,$F$2:F68) -> 9 | B10: EST | C10: Tallinna SK | D10: Johanna Lepp | E10: 215 | F10: {=IF(G10<6,SUM(E10:E10),SUM(LARGE(E10:E10,{1;2;3;4;5;6})))} -> 215 | G10: =COUNT(E10:E10) -> 1
A11: =RANK(F11,$F$2:F69) -> 9 | B11: EST | C11: Tallinna SK | D11: Esta Uudeküll-Romot | E11: 215 | F11: {=IF(G11<6,SUM(E11:E11),SUM(LARGE(E11:E11,{1;2;3;4;5;6})))} -> 215 | G11: =COUNT(E11:E11) -> 1
A12: =RANK(F12,$F$2:F70) -> 11 | B12: EST | D12: Kerli-Helen Oissar | E12: 190 | F12: {=IF(G12<6,SUM(E12:E12),SUM(LARGE(E12:E12,{1;2;3;4;5;6})))} -> 190 | G12: =COUNT(E12:E12) -> 1
A13: =RANK(F13,$F$2:F71) -> 11 | B13: EST | C13: Tondiraba SK | D13: Kaisa Mälberg | E13: 190 | F13: {=IF(G13<6,SUM(E13:E13),SUM(LARGE(E13:E13,{1;2;3;4;5;6})))} -> 190 | G13: =COUNT(E13:E13) -> 1
A14: =RANK(F14,$F$2:F72) -> 13 | B14: EST | C14: Raul Must SK | D14: Kirsika Vaidla | E14: 160 | F14: {=IF(G14<6,SUM(E14:E14),SUM(LARGE(E14:E14,{1;2;3;4;5;6})))} -> 160 | G14: =COUNT(E14:E14) -> 1
A15: =RANK(F15,$F$2:F73) -> 13 | B15: EST | C15: Raul Must SK | D15: Ellen Mai Lassi | E15: 160 | F15: {=IF(G15<6,SUM(E15:E15),SUM(LARGE(E15:E15,{1;2;3;4;5;6})))} -> 160 | G15: =COUNT(E15:E15) -> 1
A16: =RANK(F16,$F$2:F74) -> 15 | B16: EST | C16: Ulsans | D16: Jekaterina Arhipova | E16: 130 | F16: {=IF(G16<6,SUM(E16:E16),SUM(LARGE(E16:E16,{1;2;3;4;5;6})))} -> 130 | G16: =COUNT(E16:E16) -> 1
A17: =RANK(F17,$F$2:F75) -> 15 | B17: EST | C17: Ulsans | D17: Katre Sepp | E17: 130 | F17: {=IF(G17<6,SUM(E17:E17),SUM(LARGE(E17:E17,{1;2;3;4;5;6})))} -> 130 | G17: =COUNT(E17:E17) -> 1
A18: =RANK(F18,$F$2:F76) -> 17 | B18: EST | C18: Triiton | D18: Katarina Pärli | E18: 100 | F18: {=IF(G18<6,SUM(E18:E18),SUM(LARGE(E18:E18,{1;2;3;4;5;6})))} -> 100 | G18: =COUNT(E18:E18) -> 1
A19: =RANK(F19,$F$2:F77) -> 17 | B19: EST | C19: Triiton | D19: Hannele Pärn | E19: 100 | F19: {=IF(G19<6,SUM(E19:E19),SUM(LARGE(E19:E19,{1;2;3;4;5;6})))} -> 100 | G19: =COUNT(E19:E19) -> 1
A20: =RANK(F20,$F$2:F78) -> 19 | B20: EST | C20: Võru SK | D20: Riina Täht | E20: 80 | F20: {=IF(G20<6,SUM(E20:E20),SUM(LARGE(E20:E20,{1;2;3;4;5;6})))} -> 80 | G20: =COUNT(E20:E20) -> 1
A21: =RANK(F21,$F$2:F79) -> 19 | B21: EST | C21: Võru SK | D21: Ronja Täht | E21: 80 | F21: {=IF(G21<6,SUM(E21:E21),SUM(LARGE(E21:E21,{1;2;3;4;5;6})))} -> 80 | G21: =COUNT(E21:E21) -> 1
A22: =RANK(F22,$F$2:F80) -> 21 | B22: EST | C22: Tondiraba SK | D22: Karin Jagant | E22: 70 | F22: {=IF(G22<6,SUM(E22:E22),SUM(LARGE(E22:E22,{1;2;3;4;5;6})))} -> 70 | G22: =COUNT(E22:E22) -> 1
A23: =RANK(F23,$F$2:F81) -> 21 | B23: EST | C23: Tondiraba SK | D23: Pirgit Aru | E23: 70 | F23: {=IF(G23<6,SUM(E23:E23),SUM(LARGE(E23:E23,{1;2;3;4;5;6})))} -> 70 | G23: =COUNT(E23:E23) -> 1
A24: =RANK(F24,$F$2:F82) -> 23 | B24: EST | C24: Pärnu SK | D24: Angela Kivisik | E24: 55 | F24: {=IF(G24<6,SUM(E24:E24),SUM(LARGE(E24:E24,{1;2;3;4;5;6})))} -> 55 | G24: =COUNT(E24:E24) -> 1
... A29: =RANK(F29,$F$2:F87) -> 25 | B29: EST | C29: TSKeskus | D29: Emili Paulus | E29: 0 | F29: {=IF(G29<6,SUM(E29:E29),SUM(LARGE(E29:E29,{1;2;3;4;5;6})))} -> 0 | G29: =COUNT(E29:E29) -> 1

Sheet SP M
A1: Koht | B1: Rahvus | C1: Klubi | D1: Nimi | E1: RSL GP-1 10.-11.10.26 | F1: Punkte 12.10.26 | G1: Võistluste arv
A2: =RANK(F2,$F$2:F60) -> 1 | B2: EST | C2: TÜASK | D2: Kristjan Kaljurand | E2: 660 | F2: {=IF(G2<6,SUM(E2:E2),SUM(LARGE(E2:E2,{1;2;3;4;5;6})))} -> 660 | G2: =COUNT(E2:E2) -> 1
A3: =RANK(F3,$F$2:F61) -> 2 | B3: EST | C3: Veeriku Badminton | D3: Artur Ajupov | E3: 560 | F3: {=IF(G3<6,SUM(E3:E3),SUM(LARGE(E3:E3,{1;2;3;4;5;6})))} -> 560 | G3: =COUNT(E3:E3) -> 1
A4: =RANK(F4,$F$2:F62) -> 3 | B4: EST | C4: Tallinna Kalev | D4: Vahur Lukin | E4: 500 | F4: {=IF(G4<6,SUM(E4:E4),SUM(LARGE(E4:E4,{1;2;3;4;5;6})))} -> 500 | G4: =COUNT(E4:E4) -> 1
A5: =RANK(F5,$F$2:F63) -> 4 | B5: EST | C5: Tondiraba SK | D5: Mikk Aru | E5: 460 | F5: {=IF(G5<6,SUM(E5:E5),SUM(LARGE(E5:E5,{1;2;3;4;5;6})))} -> 460 | G5: =COUNT(E5:E5) -> 1
A6: =RANK(F6,$F$2:F64) -> 5 | B6: EST | C6: TSKeskus | D6: Arturi Asperk | E6: 360 | F6: {=IF(G6<6,SUM(E6:E6),SUM(LARGE(E6:E6,{1;2;3;4;5;6})))} -> 360 | G6: =COUNT(E6:E6) -> 1
A7: =RANK(F7,$F$2:F65) -> 6 | B7: EST | C7: Tallinna SK | D7: Sven Oja | E7: 300 | F7: {=IF(G7<6,SUM(E7:E7),SUM(LARGE(E7:E7,{1;2;3;4;5;6})))} -> 300 | G7: =COUNT(E7:E7) -> 1
A8: =RANK(F8,$F$2:F66) -> 7 | B8: EST | C8: Nõo SK | D8: Andre Looskari | E8: 250 | F8: {=IF(G8<6,SUM(E8:E8),SUM(LARGE(E8:E8,{1;2;3;4;5;6})))} -> 250 | G8: =COUNT(E8:E8) -> 1
A9: =RANK(F9,$F$2:F67) -> 8 | B9: EST | C9: Tondiraba SK | D9: Rudolf Leimets | E9: 215 | F9: {=IF(G9<6,SUM(E9:E9),SUM(LARGE(E9:E9,{1;2;3;4;5;6})))} -> 215 | G9: =COUNT(E9:E9) -> 1
A10: =RANK(F10,$F$2:F68) -> 9 | B10: EST | C10: Tallinna SK | D10: Sander Asonov | E10: 190 | F10: {=IF(G10<6,SUM(E10:E10),SUM(LARGE(E10:E10,{1;2;3;4;5;6})))} -> 190 | G10: =COUNT(E10:E10) -> 1
A11: =RANK(F11,$F$2:F69) -> 10 | B11: EST | C11: TSKeskus | D11: Albert Leis | E11: 160 | F11: {=IF(G11<6,SUM(E11:E11),SUM(LARGE(E11:E11,{1;2;3;4;5;6})))} -> 160 | G11: =COUNT(E11:E11) -> 1
A12: =RANK(F12,$F$2:F70) -> 10 | B12: EST | C12: Veeriku Badminton | D12: Rainer Kaljumäe | E12: 160 | F12: {=IF(G12<6,SUM(E12:E12),SUM(LARGE(E12:E12,{1;2;3;4;5;6})))} -> 160 | G12: =COUNT(E12:E12) -> 1
A13: =RANK(F13,$F$2:F71) -> 10 | B13: EST | C13: Tondiraba SK | D13: Andre Martin Reins | E13: 160 | F13: {=IF(G13<6,SUM(E13:E13),SUM(LARGE(E13:E13,{1;2;3;4;5;6})))} -> 160 | G13: =COUNT(E13:E13) -> 1
... A23: =RANK(F23,$F$2:F81) -> 21 | B23: EST | C23: Raul Must SK | D23: Maru Jon Maiste | E23: 0 | F23: {=IF(G23<6,SUM(E23:E23),SUM(LARGE(E23:E23,{1;2;3;4;5;6})))} -> 0 | G23: =COUNT(E23:E23) -> 1

Sheet SP N
A1: Koht | B1: Rahvus | C1: Klubi | D1: Nimi | E1: RSL GP-1 10.-11.10.26 | F1: Punkte 12.10.26 | G1: Võistluste arv
A2: =RANK(F2,$F$2:F60) -> 1 | B2: EST | C2: TÜASK | D2: Heili Merisalu | E2: 660 | F2: {=IF(G2<6,SUM(E2:E2),SUM(LARGE(E2:E2,{1;2;3;4;5;6})))} -> 660 | G2: =COUNT(E2:E2) -> 1
A3: =RANK(F3,$F$2:F61) -> 2 | B3: EST | C3: Triiton | D3: Elisaveta Berik | E3: 560 | F3: {=IF(G3<6,SUM(E3:E3),SUM(LARGE(E3:E3,{1;2;3;4;5;6})))} -> 560 | G3: =COUNT(E3:E3) -> 1
A4: =RANK(F4,$F$2:F62) -> 3 | B4: EST | C4: Tallinna Kalev | D4: Gretel Saadoja | E4: 500 | F4: {=IF(G4<6,SUM(E4:E4),SUM(LARGE(E4:E4,{1;2;3;4;5;6})))} -> 500 | G4: =COUNT(E4:E4) -> 1
A5: =RANK(F5,$F$2:F63) -> 4 | B5: EST | C5: Tallinna SK | D5: Johanna Lepp | E5: 460 | F5: {=IF(G5<6,SUM(E5:E5),SUM(LARGE(E5:E5,{1;2;3;4;5;6})))} -> 460 | G5: =COUNT(E5:E5) -> 1
A6: =RANK(F6,$F$2:F64) -> 5 | B6: EST | C6: TSKeskus | D6: Grettel Luts | E6: 360 | F6: {=IF(G6<6,SUM(E6:E6),SUM(LARGE(E6:E6,{1;2;3;4;5;6})))} -> 360 | G6: =COUNT(E6:E6) -> 1
A7: =RANK(F7,$F$2:F65) -> 6 | B7: EST | C7: Ulsans | D7: Maria Medvedeva | E7: 300 | F7: {=IF(G7<6,SUM(E7:E7),SUM(LARGE(E7:E7,{1;2;3;4;5;6})))} -> 300 | G7: =COUNT(E7:E7) -> 1
A8: =RANK(F8,$F$2:F66) -> 7 | B8: EST | C8: Raul Must SK | D8: Kirsika Vaidla | E8: 250 | F8: {=IF(G8<6,SUM(E8:E8),SUM(LARGE(E8:E8,{1;2;3;4;5;6})))} -> 250 | G8: =COUNT(E8:E8) -> 1
A9: =RANK(F9,$F$2:F67) -> 8 | B9: EST | C9: Tallinna SK | D9: Esta Uudeküll-Romot | E9: 215 | F9: {=IF(G9<6,SUM(E9:E9),SUM(LARGE(E9:E9,{1;2;3;4;5;6})))} -> 215 | G9: =COUNT(E9:E9) -> 1
A10: =RANK(F10,$F$2:F68) -> 9 | B10: EST | C10: Tallinna SK | D10: Oleksandra Kurbatova | E10: 190 | F10: {=IF(G10<6,SUM(E10:E10),SUM(LARGE(E10:E10,{1;2;3;4;5;6})))} -> 190 | G10: =COUNT(E10:E10) -> 1
A11: =RANK(F11,$F$2:F69) -> 10 | B11: EST | C11: SK Fookus | D11: Polina Volohhonski | E11: 160 | F11: {=IF(G11<6,SUM(E11:E11),SUM(LARGE(E11:E11,{1;2;3;4;5;6})))} -> 160 | G11: =COUNT(E11:E11) -> 1
A12: =RANK(F12,$F$2:F70) -> 10 | B12: EST | C12: Tallinna SK | D12: Hanna Bender | E12: 160 | F12: {=IF(G12<6,SUM(E12:E12),SUM(LARGE(E12:E12,{1;2;3;4;5;6})))} -> 160 | G12: =COUNT(E12:E12) -> 1
A13: =RANK(F13,$F$2:F71) -> 10 | B13: EST | C13: Triiton | D13: Kadi Kaljumäe | E13: 160 | F13: {=IF(G13<6,SUM(E13:E13),SUM(LARGE(E13:E13,{1;2;3;4;5;6})))} -> 160 | G13: =COUNT(E13:E13) -> 1
... A19: =RANK(F19,$F$2:F77) -> 18 | B19: EST | C19: Tondiraba SK | D19: Pirgit Aru | E19: 55 | F19: {=IF(G19<6,SUM(E19:E19),SUM(LARGE(E19:E19,{1;2;3;4;5;6})))} -> 55 | G19: =COUNT(E19:E19) -> 1
A20: =RANK(F20,$F$2:F78) -> 18 | B20: EST | D20: Ave Kivisik | E20: 55 | F20: {=IF(G20<6,SUM(E20:E20),SUM(LARGE(E20:E20,{1;2;3;4;5;6})))} -> 55 | G20: =COUNT(E20:E20) -> 1
A21: =RANK(F21,$F$2:F79) -> 18 | B21: EST | C21: Raul Must SK | D21: Nathali Vilumets | E21: 55 | F21: {=IF(G21<6,SUM(E21:E21),SUM(LARGE(E21:E21,{1;2;3;4;5;6})))} -> 55 | G21: =COUNT(E21:E21) -> 1
A22: =RANK(F22,$F$2:F80) -> 21 | B22: EST | C22: Raul Must SK | D22: Andra Tikan | E22: 0 | F22: {=IF(G22<6,SUM(E22:E22),SUM(LARGE(E22:E22,{1;2;3;4;5;6})))} -> 0 | G22: =COUNT(E22:E22) -> 1
A23: =RANK(F23,$F$2:F81) -> 21 | B23: EST | C23: Võru SK | D23: Ronja Täht | E23: 0 | F23: {=IF(G23<6,SUM(E23:E23),SUM(LARGE(E23:E23,{1;2;3;4;5;6})))} -> 0 | G23: =COUNT(E23:E23) -> 1

Sheet Info
A1: nimi | B1: MS | C1: WS | D1: MD | E1: WD | F1: XDM | G1: XDW | H1: kokku
A2: Tondiraba SK | B2: =IFERROR(COUNTIF(MÜ!C:C,Info!A2),"") -> 10 | C2: =IFERROR(COUNTIF(NÜ!C:C,Info!A2),"") -> 4 | D2: =IFERROR(COUNTIF(MP!C:C,Info!A2),"") -> 8 | E2: =IFERROR(COUNTIF(NP!C:C,Info!A2),"") -> 4 | F2: =IFERROR(COUNTIF('SP M'!C:C,Info!A2),"") -> 6 | G2: =IFERROR(COUNTIF('SP N'!C:C,Info!A2),"") -> 4 | H2: =SUM(B2:G2) -> 36 | L2: ASETUSED
A3: Triiton | B3: =IFERROR(COUNTIF(MÜ!C:C,Info!A3),"") -> 5 | C3: =IFERROR(COUNTIF(NÜ!C:C,Info!A3),"") -> 7 | D3: =IFERROR(COUNTIF(MP!C:C,Info!A3),"") -> 8 | E3: =IFERROR(COUNTIF(NP!C:C,Info!A3),"") -> 3 | F3: =IFERROR(COUNTIF('SP M'!C:C,Info!A3),"") -> 0 | G3: =IFERROR(COUNTIF('SP N'!C:C,Info!A3),"") -> 2 | H3: =SUM(B3:G3) -> 25 | L3: Kirjuta nime lahtrisse paariliste nimed ükshaaval. Kui tuleb "EI OLE", pole mängija selles liigis osalenud või nime kirjapilt ei klapi edetabeli omaga
A4: TSKeskus | B4: =IFERROR(COUNTIF(MÜ!C:C,Info!A4),"") -> 16 | C4: =IFERROR(COUNTIF(NÜ!C:C,Info!A4),"") -> 7 | D4: =IFERROR(COUNTIF(MP!C:C,Info!A4),"") -> 8 | E4: =IFERROR(COUNTIF(NP!C:C,Info!A4),"") -> 6 | F4: =IFERROR(COUNTIF('SP M'!C:C,Info!A4),"") -> 3 | G4: =IFERROR(COUNTIF('SP N'!C:C,Info!A4),"") -> 1 | H4: =SUM(B4:G4) -> 41
A5: SK Fookus | B5: =IFERROR(COUNTIF(MÜ!C:C,Info!A5),"") -> 1 | C5: =IFERROR(COUNTIF(NÜ!C:C,Info!A5),"") -> 1 | D5: =IFERROR(COUNTIF(MP!C:C,Info!A5),"") -> 4 | E5: =IFERROR(COUNTIF(NP!C:C,Info!A5),"") -> 0 | F5: =IFERROR(COUNTIF('SP M'!C:C,Info!A5),"") -> 1 | G5: =IFERROR(COUNTIF('SP N'!C:C,Info!A5),"") -> 1 | H5: =SUM(B5:G5) -> 8 | L5: paar nr | M5: NIMI | N5: liiga | O5: ÜKSIKMÄNG | P5: Liiga | Q5: PAARI PUNKTID | R5: kokku | S5: liiga | T5: SEGA PUNKTID | U5: KOKKU | X5: nr | Z5: liiga | AA5: nimi | AB5: üksik | AD5: paar nr | AE5: nimi | AF5: paar | AG5: sega | AK5: Meistriliiga | AL5: Esiliiga | AM5: 2. liiga | AN5: 3. liiga | AO5: 4. liiga
A6: Ulsans | B6: =IFERROR(COUNTIF(MÜ!C:C,Info!A6),"") -> 1 | C6: =IFERROR(COUNTIF(NÜ!C:C,Info!A6),"") -> 2 | D6: =IFERROR(COUNTIF(MP!C:C,Info!A6),"") -> 0 | E6: =IFERROR(COUNTIF(NP!C:C,Info!A6),"") -> 2 | F6: =IFERROR(COUNTIF('SP M'!C:C,Info!A6),"") -> 1 | G6: =IFERROR(COUNTIF('SP N'!C:C,Info!A6),"") -> 2 | H6: =SUM(B6:G6) -> 8 | L6: 1 | N6: =IF(M6="","",IFERROR(INDEX($AK$5:$AO$5,1,MATCH(INDEX(MÜ!A:A,MATCH(Info!M6,MÜ!D:D,0),1),$AK$6:$AO$6)),IFERROR(INDEX($AK$5:$AO$5,1,MATCH(INDEX(NÜ!A:A,MATCH(Info!M6,NÜ!D:D,0),1),$AK$7:$AO$7)),""))) | O6: =IF(M6="","",IFERROR(INDEX(MÜ!F:F,MATCH(Info!M6,MÜ!D:D,0),1),IFERROR(INDEX(NÜ!F:F,MATCH(Info!M6,NÜ!D:D,0),1),"EI OLE"))) | P6: =IF(M6="","",IFERROR(INDEX($AK$5:$AO$5,1,MATCH(INDEX(MP!A:A,MATCH(Info!M6,MP!D:D,0),1),$AK$8:$AO$8)),IFERROR(INDEX($AK$5:$AO$5,1,MATCH(INDEX(NP!A:A,MATCH(Info!M6,NP!D:D,0),1),$AK$9:$AO$9)),""))) | Q6: =IF(M6="","",IFERROR(INDEX(MP!F:F,MATCH(Info!M6,MP!D:D,0),1),IFERROR(INDEX(NP!F:F,MATCH(Info!M6,NP!D:D,0),1),"EI OLE"))) | R6: =SUM(Q6:Q7) -> 0 | S6: =IF(M6="","",IFERROR(INDEX($AK$5:$AO$5,1,MATCH(INDEX('SP M'!A:A,MATCH(Info!M6,'SP M'!D:D,0),1),$AK$10:$AO$10)),IFERROR(INDEX($AK$5:$AO$5,1,MATCH(INDEX('SP N'!A:A,MATCH(Info!M6,'SP N'!D:D,0),1),$AK$11:$AO$11)),""))) | T6: =IF(M6="","",IFERROR(INDEX('SP M'!F:F,MATCH(Info!M6,'SP M'!D:D,0),1),IFERROR(INDEX('SP N'!F:F,MATCH(Info!M6,'SP N'!D:D,0),1),"EI OLE"))) | U6: =SUM(T6:T7) -> 0 | V6: =IF(M6="","",MAX(O6,Q6,T6)) | X6: 1 | Z6: =$N$6 | AA6: =$M$6 -> 0 | AB6: =$O$6 | AD6: =$L$8 -> 2 | AE6: =$M$8&" - "&$M$9 -> #REF! | AF6: =$R$8 -> #REF! | AG6: =$U$8 -> #REF! | AJ6: MS | AK6: 1 | AL6: 15 | AM6: 49 | AN6: 97 | AO6: 161
A7: Pärnu SK | B7: =IFERROR(COUNTIF(MÜ!C:C,Info!A7),"") -> 0 | C7: =IFERROR(COUNTIF(NÜ!C:C,Info!A7),"") -> 0 | D7: =IFERROR(COUNTIF(MP!C:C,Info!A7),"") -> 0 | E7: =IFERROR(COUNTIF(NP!C:C,Info!A7),"") -> 2 | F7: =IFERROR(COUNTIF('SP M'!C:C,Info!A7),"") -> 0 | G7: =IFERROR(COUNTIF('SP N'!C:C,Info!A7),"") -> 1 | H7: =SUM(B7:G7) -> 3 | N7: =IF(M7="","",IFERROR(INDEX($AK$5:$AO$5,1,MATCH(INDEX(MÜ!A:A,MATCH(Info!M7,MÜ!D:D,0),1),$AK$6:$AO$6)),IFERROR(INDEX($AK$5:$AO$5,1,MATCH(INDEX(NÜ!A:A,MATCH(Info!M7,NÜ!D:D,0),1),$AK$7:$AO$7)),""))) | O7: =IF(M7="","",IFERROR(INDEX(MÜ!F:F,MATCH(Info!M7,MÜ!D:D,0),1),IFERROR(INDEX(NÜ!F:F,MATCH(Info!M7,NÜ!D:D,0),1),"EI OLE"))) | P7: =IF(M7="","",IFERROR(INDEX($AK$5:$AO$5,1,MATCH(INDEX(MP!A:A,MATCH(Info!M7,MP!D:D,0),1),$AK$8:$AO$8)),IFERROR(INDEX($AK$5:$AO$5,1,MATCH(INDEX(NP!A:A,MATCH(Info!M7,NP!D:D,0),1),$AK$9:$AO$9)),""))) | Q7: =IF(M7="","",IFERROR(INDEX(MP!F:F,MATCH(Info!M7,MP!D:D,0),1),IFERROR(INDEX(NP!F:F,MATCH(Info!M7,NP!D:D,0),1),"EI OLE"))) | S7: =IF(M7="","",IFERROR(INDEX($AK$5:$AO$5,1,MATCH(INDEX('SP M'!A:A,MATCH(Info!M7,'SP M'!D:D,0),1),$AK$10:$AO$10)),IFERROR(INDEX($AK$5:$AO$5,1,MATCH(INDEX('SP N'!A:A,MATCH(Info!M7,'SP N'!D:D,0),1),$AK$11:$AO$11)),""))) | T7: =IF(M7="","",IFERROR(INDEX('SP M'!F:F,MATCH(Info!M7,'SP M'!D:D,0),1),IFERROR(INDEX('SP N'!F:F,MATCH(Info!M7,'SP N'!D:D,0),1),"EI OLE"))) | X7: 2 | Z7: =$N$7 | AA7: =$M$7 -> 0 | AB7: =$O$7 | AD7: =$L$6 -> 1 | AE7: =$M$6&" - "&$M$7 -> - | AF7: =$R$6 -> 0 | AG7: =$U$6 -> 0 | AJ7: WS | AK7: 1 | AL7: 11 | AM7: 25 | AN7: 49 | AO7: 85
A8: TÜASK | B8: =IFERROR(COUNTIF(MÜ!C:C,Info!A8),"") -> 2 | C8: =IFERROR(COUNTIF(NÜ!C:C,Info!A8),"") -> 0 | D8: =IFERROR(COUNTIF(MP!C:C,Info!A8),"") -> 5 | E8: =IFERROR(COUNTIF(NP!C:C,Info!A8),"") -> 1 | F8: =IFERROR(COUNTIF('SP M'!C:C,Info!A8),"") -> 2 | G8: =IFERROR(COUNTIF('SP N'!C:C,Info!A8),"") -> 1 | H8: =SUM(B8:G8) -> 11 | L8: 2 | M8: ='[1]SP '!$A$3 -> #REF! | N8: =IF(M8="","",IFERROR(INDEX($AK$5:$AO$5,1,MATCH(INDEX(MÜ!A:A,MATCH(Info!M8,MÜ!D:D,0),1),$AK$6:$AO$6)),IFERROR(INDEX($AK$5:$AO$5,1,MATCH(INDEX(NÜ!A:A,MATCH(Info!M8,NÜ!D:D,0),1),$AK$7:$AO$7)),""))) -> #REF! | O8: =IF(M8="","",IFERROR(INDEX(MÜ!F:F,MATCH(Info!M8,MÜ!D:D,0),1),IFERROR(INDEX(NÜ!F:F,MATCH(Info!M8,NÜ!D:D,0),1),"EI OLE"))) -> #REF! | P8: =IF(M8="","",IFERROR(INDEX($AK$5:$AO$5,1,MATCH(INDEX(MP!A:A,MATCH(Info!M8,MP!D:D,0),1),$AK$8:$AO$8)),IFERROR(INDEX($AK$5:$AO$5,1,MATCH(INDEX(NP!A:A,MATCH(Info!M8,NP!D:D,0),1),$AK$9:$AO$9)),""))) -> #REF! | Q8: =IF(M8="","",IFERROR(INDEX(MP!F:F,MATCH(Info!M8,MP!D:D,0),1),IFERROR(INDEX(NP!F:F,MATCH(Info!M8,NP!D:D,0),1),"EI OLE"))) -> #REF! | R8: =SUM(Q8:Q9) -> #REF! | S8: =IF(M8="","",IFERROR(INDEX($AK$5:$AO$5,1,MATCH(INDEX('SP M'!A:A,MATCH(Info!M8,'SP M'!D:D,0),1),$AK$10:$AO$10)),IFERROR(INDEX($AK$5:$AO$5,1,MATCH(INDEX('SP N'!A:A,MATCH(Info!M8,'SP N'!D:D,0),1),$AK$11:$AO$11)),""))) -> #REF! | T8: =IF(M8="","",IFERROR(INDEX('SP M'!F:F,MATCH(Info!M8,'SP M'!D:D,0),1),IFERROR(INDEX('SP N'!F:F,MATCH(Info!M8,'SP N'!D:D,0),1),"EI OLE"))) -> #REF! | U8: =SUM(T8:T9) -> #REF! | X8: 3 | Z8: =$N$8 -> #REF! | AA8: =$M$8 -> #REF! | AB8: =$O$8 -> #REF! | AD8: =$L$10 -> 3 | AE8: =$M$10&" - "&$M$11 -> #REF! | AF8: =$R$10 -> #REF! | AG8: =$U$10 -> #REF! | AJ8: MD | AK8: 1 | AL8: 23 | AM8: 65 | AN8: 113 | AO8: 209
A9: Raul Must SK | B9: =IFERROR(COUNTIF(MÜ!C:C,Info!A9),"") -> 6 | C9: =IFERROR(COUNTIF(NÜ!C:C,Info!A9),"") -> 3 | D9: =IFERROR(COUNTIF(MP!C:C,Info!A9),"") -> 2 | E9: =IFERROR(COUNTIF(NP!C:C,Info!A9),"") -> 2 | F9: =IFERROR(COUNTIF('SP M'!C:C,Info!A9),"") -> 2 | G9: =IFERROR(COUNTIF('SP N'!C:C,Info!A9),"") -> 3 | H9: =SUM(B9:G9) -> 18 | J9: Meistriliiga | M9: ='[1]SP '!$B$3 -> #REF! | N9: =IF(M9="","",IFERROR(INDEX($AK$5:$AO$5,1,MATCH(INDEX(MÜ!A:A,MATCH(Info!M9,MÜ!D:D,0),1),$AK$6:$AO$6)),IFERROR(INDEX($AK$5:$AO$5,1,MATCH(INDEX(NÜ!A:A,MATCH(Info!M9,NÜ!D:D,0),1),$AK$7:$AO$7)),""))) -> #REF! | O9: =IF(M9="","",IFERROR(INDEX(MÜ!F:F,MATCH(Info!M9,MÜ!D:D,0),1),IFERROR(INDEX(NÜ!F:F,MATCH(Info!M9,NÜ!D:D,0),1),"EI OLE"))) -> #REF! | P9: =IF(M9="","",IFERROR(INDEX($AK$5:$AO$5,1,MATCH(INDEX(MP!A:A,MATCH(Info!M9,MP!D:D,0),1),$AK$8:$AO$8)),IFERROR(INDEX($AK$5:$AO$5,1,MATCH(INDEX(NP!A:A,MATCH(Info!M9,NP!D:D,0),1),$AK$9:$AO$9)),""))) -> #REF! | Q9: =IF(M9="","",IFERROR(INDEX(MP!F:F,MATCH(Info!M9,MP!D:D,0),1),IFERROR(INDEX(NP!F:F,MATCH(Info!M9,NP!D:D,0),1),"EI OLE"))) -> #REF! | S9: =IF(M9="","",IFERROR(INDEX($AK$5:$AO$5,1,MATCH(INDEX('SP M'!A:A,MATCH(Info!M9,'SP M'!D:D,0),1),$AK$10:$AO$10)),IFERROR(INDEX($AK$5:$AO$5,1,MATCH(INDEX('SP N'!A:A,MATCH(Info!M9,'SP N'!D:D,0),1),$AK$11:$AO$11)),""))) -> #REF! | T9: =IF(M9="","",IFERROR(INDEX('SP M'!F:F,MATCH(Info!M9,'SP M'!D:D,0),1),IFERROR(INDEX('SP N'!F:F,MATCH(Info!M9,'SP N'!D:D,0),1),"EI OLE"))) -> #REF! | X9: 4 | Z9: =$N$9 -> #REF! | AA9: =$M$9 -> #REF! | AB9: =$O$9 -> #REF! | AD9: =$L$12 -> 4 | AE9: =$M$12&" - "&$M$13 -> 0 - 0 | AF9: =$R$12 -> 0 | AG9: =$U$12 -> 0 | AJ9: WD | AK9: 1 | AL9: 15 | AM9: 33 | AN9: 81 | AO9: 145
A10: Valge Hani | B10: =IFERROR(COUNTIF(MÜ!C:C,Info!A10),"") -> 0 | C10: =IFERROR(COUNTIF(NÜ!C:C,Info!A10),"") -> 0 | D10: =IFERROR(COUNTIF(MP!C:C,Info!A10),"") -> 0 | E10: =IFERROR(COUNTIF(NP!C:C,Info!A10),"") -> 0 | F10: =IFERROR(COUNTIF('SP M'!C:C,Info!A10),"") -> 0 | G10: =IFERROR(COUNTIF('SP N'!C:C,Info!A10),"") -> 0 | H10: =SUM(B10:G10) -> 0 | J10: Esiliiga | L10: 3 | M10: ='[1]SP '!$A$4 -> #REF! | N10: =IF(M10="","",IFERROR(INDEX($AK$5:$AO$5,1,MATCH(INDEX(MÜ!A:A,MATCH(Info!M10,MÜ!D:D,0),1),$AK$6:$AO$6)),IFERROR(INDEX($AK$5:$AO$5,1,MATCH(INDEX(NÜ!A:A,MATCH(Info!M10,NÜ!D:D,0),1),$AK$7:$AO$7)),""))) -> #REF! | O10: =IF(M10="","",IFERROR(INDEX(MÜ!F:F,MATCH(Info!M10,MÜ!D:D,0),1),IFERROR(INDEX(NÜ!F:F,MATCH(Info!M10,NÜ!D:D,0),1),"EI OLE"))) -> #REF! | P10: =IF(M10="","",IFERROR(INDEX($AK$5:$AO$5,1,MATCH(INDEX(MP!A:A,MATCH(Info!M10,MP!D:D,0),1),$AK$8:$AO$8)),IFERROR(INDEX($AK$5:$AO$5,1,MATCH(INDEX(NP!A:A,MATCH(Info!M10,NP!D:D,0),1),$AK$9:$AO$9)),""))) -> #REF! | Q10: =IF(M10="","",IFERROR(INDEX(MP!F:F,MATCH(Info!M10,MP!D:D,0),1),IFERROR(INDEX(NP!F:F,MATCH(Info!M10,NP!D:D,0),1),"EI OLE"))) -> #REF! | R10: =SUM(Q10:Q11) -> #REF! | S10: =IF(M10="","",IFERROR(INDEX($AK$5:$AO$5,1,MATCH(INDEX('SP M'!A:A,MATCH(Info!M10,'SP M'!D:D,0),1),$AK$10:$AO$10)),IFERROR(INDEX($AK$5:$AO$5,1,MATCH(INDEX('SP N'!A:A,MATCH(Info!M10,'SP N'!D:D,0),1),$AK$11:$AO$11)),""))) -> #REF! | T10: =IF(M10="","",IFERROR(INDEX('SP M'!F:F,MATCH(Info!M10,'SP M'!D:D,0),1),IFERROR(INDEX('SP N'!F:F,MATCH(Info!M10,'SP N'!D:D,0),1),"EI OLE"))) -> #REF! | U10: =SUM(T10:T11) -> #REF! | X10: 5 | Z10: =$N$10 -> #REF! | AA10: =$M$10 -> #REF! | AB10: =$O$10 -> #REF! | AD10: =$L$14 -> 5 | AE10: =$M$14&" - "&$M$15 -> 0 - 0 | AF10: =$R$14 -> 0 | AG10: =$U$14 -> 0 | AJ10: XD M | AK10: 1 | AL10: 11 | AM10: 35 | AN10: 71 | AO10: 119
A11: Kuuse | B11: =IFERROR(COUNTIF(MÜ!C:C,Info!A11),"") -> 1 | C11: =IFERROR(COUNTIF(NÜ!C:C,Info!A11),"") -> 1 | D11: =IFERROR(COUNTIF(MP!C:C,Info!A11),"") -> 0 | E11: =IFERROR(COUNTIF(NP!C:C,Info!A11),"") -> 0 | F11: =IFERROR(COUNTIF('SP M'!C:C,Info!A11),"") -> 0 | G11: =IFERROR(COUNTIF('SP N'!C:C,Info!A11),"") -> 0 | H11: =SUM(B11:G11) -> 2 | J11: 2. liiga | M11: ='[1]SP '!$B$4 -> #REF! | N11: =IF(M11="","",IFERROR(INDEX($AK$5:$AO$5,1,MATCH(INDEX(MÜ!A:A,MATCH(Info!M11,MÜ!D:D,0),1),$AK$6:$AO$6)),IFERROR(INDEX($AK$5:$AO$5,1,MATCH(INDEX(NÜ!A:A,MATCH(Info!M11,NÜ!D:D,0),1),$AK$7:$AO$7)),""))) -> #REF! | O11: =IF(M11="","",IFERROR(INDEX(MÜ!F:F,MATCH(Info!M11,MÜ!D:D,0),1),IFERROR(INDEX(NÜ!F:F,MATCH(Info!M11,NÜ!D:D,0),1),"EI OLE"))) -> #REF! | P11: =IF(M11="","",IFERROR(INDEX($AK$5:$AO$5,1,MATCH(INDEX(MP!A:A,MATCH(Info!M11,MP!D:D,0),1),$AK$8:$AO$8)),IFERROR(INDEX($AK$5:$AO$5,1,MATCH(INDEX(NP!A:A,MATCH(Info!M11,NP!D:D,0),1),$AK$9:$AO$9)),""))) -> #REF! | Q11: =IF(M11="","",IFERROR(INDEX(MP!F:F,MATCH(Info!M11,MP!D:D,0),1),IFERROR(INDEX(NP!F:F,MATCH(Info!M11,NP!D:D,0),1),"EI OLE"))) -> #REF! | S11: =IF(M11="","",IFERROR(INDEX($AK$5:$AO$5,1,MATCH(INDEX('SP M'!A:A,MATCH(Info!M11,'SP M'!D:D,0),1),$AK$10:$AO$10)),IFERROR(INDEX($AK$5:$AO$5,1,MATCH(INDEX('SP N'!A:A,MATCH(Info!M11,'SP N'!D:D,0),1),$AK$11:$AO$11)),""))) -> #REF! | T11: =IF(M11="","",IFERROR(INDEX('SP M'!F:F,MATCH(Info!M11,'SP M'!D:D,0),1),IFERROR(INDEX('SP N'!F:F,MATCH(Info!M11,'SP N'!D:D,0),1),"EI OLE"))) -> #REF! | X11: 6 | Z11: =$N$11 -> #REF! | AA11: =$M$11 -> #REF! | AB11: =$O$11 -> #REF! | AD11: =$L$16 -> 6 | AE11: =$M$16&" - "&$M$17 -> 0 - 0 | AF11: =$R$16 -> 0 | AG11: =$U$16 -> 0 | AJ11: XD W | AK11: 1 | AL11: 11 | AM11: 35 | AN11: 71 | AO11: 119
A12: Veeriku Badminton | B12: =IFERROR(COUNTIF(MÜ!C:C,Info!A12),"") -> 1 | C12: =IFERROR(COUNTIF(NÜ!C:C,Info!A12),"") -> 1 | D12: =IFERROR(COUNTIF(MP!C:C,Info!A12),"") -> 3 | E12: =IFERROR(COUNTIF(NP!C:C,Info!A12),"") -> 1 | F12: =IFERROR(COUNTIF('SP M'!C:C,Info!A12),"") -> 2 | G12: =IFERROR(COUNTIF('SP N'!C:C,Info!A12),"") -> 0 | H12: =SUM(B12:G12) -> 8 | J12: 3. liiga | L12: 4 | M12: ='[1]SP '!$A$5 -> 0 | N12: =IF(M12="","",IFERROR(INDEX($AK$5:$AO$5,1,MATCH(INDEX(MÜ!A:A,MATCH(Info!M12,MÜ!D:D,0),1),$AK$6:$AO$6)),IFERROR(INDEX($AK$5:$AO$5,1,MATCH(INDEX(NÜ!A:A,MATCH(Info!M12,NÜ!D:D,0),1),$AK$7:$AO$7)),""))) | O12: =IF(M12="","",IFERROR(INDEX(MÜ!F:F,MATCH(Info!M12,MÜ!D:D,0),1),IFERROR(INDEX(NÜ!F:F,MATCH(Info!M12,NÜ!D:D,0),1),"EI OLE"))) -> EI OLE | P12: =IF(M12="","",IFERROR(INDEX($AK$5:$AO$5,1,MATCH(INDEX(MP!A:A,MATCH(Info!M12,MP!D:D,0),1),$AK$8:$AO$8)),IFERROR(INDEX($AK$5:$AO$5,1,MATCH(INDEX(NP!A:A,MATCH(Info!M12,NP!D:D,0),1),$AK$9:$AO$9)),""))) | Q12: =IF(M12="","",IFERROR(INDEX(MP!F:F,MATCH(Info!M12,MP!D:D,0),1),IFERROR(INDEX(NP!F:F,MATCH(Info!M12,NP!D:D,0),1),"EI OLE"))) -> EI OLE | R12: =SUM(Q12:Q13) -> 0 | S12: =IF(M12="","",IFERROR(INDEX($AK$5:$AO$5,1,MATCH(INDEX('SP M'!A:A,MATCH(Info!M12,'SP M'!D:D,0),1),$AK$10:$AO$10)),IFERROR(INDEX($AK$5:$AO$5,1,MATCH(INDEX('SP N'!A:A,MATCH(Info!M12,'SP N'!D:D,0),1),$AK$11:$AO$11)),""))) | T12: =IF(M12="","",IFERROR(INDEX('SP M'!F:F,MATCH(Info!M12,'SP M'!D:D,0),1),IFERROR(INDEX('SP N'!F:F,MATCH(Info!M12,'SP N'!D:D,0),1),"EI OLE"))) -> EI OLE | U12: =SUM(T12:T13) -> 0 | X12: 7 | Z12: =$N$12 | AA12: =$M$12 -> 0 | AB12: =$O$12 -> EI OLE | AD12: =$L$18 -> 7 | AE12: =$M$18&" - "&$M$19 -> 0 - 0 | AF12: =$R$18 -> 0 | AG12: =$U$18 -> 0
A13: Tallinna SK | B13: =IFERROR(COUNTIF(MÜ!C:C,Info!A13),"") -> 1 | C13: =IFERROR(COUNTIF(NÜ!C:C,Info!A13),"") -> 0 | D13: =IFERROR(COUNTIF(MP!C:C,Info!A13),"") -> 0 | E13: =IFERROR(COUNTIF(NP!C:C,Info!A13),"") -> 2 | F13: =IFERROR(COUNTIF('SP M'!C:C,Info!A13),"") -> 2 | G13: =IFERROR(COUNTIF('SP N'!C:C,Info!A13),"") -> 4 | H13: =SUM(B13:G13) -> 9 | J13: 4. liiga | M13: ='[1]SP '!$B$5 -> 0 | N13: =IF(M13="","",IFERROR(INDEX($AK$5:$AO$5,1,MATCH(INDEX(MÜ!A:A,MATCH(Info!M13,MÜ!D:D,0),1),$AK$6:$AO$6)),IFERROR(INDEX($AK$5:$AO$5,1,MATCH(INDEX(NÜ!A:A,MATCH(Info!M13,NÜ!D:D,0),1),$AK$7:$AO$7)),""))) | O13: =IF(M13="","",IFERROR(INDEX(MÜ!F:F,MATCH(Info!M13,MÜ!D:D,0),1),IFERROR(INDEX(NÜ!F:F,MATCH(Info!M13,NÜ!D:D,0),1),"EI OLE"))) -> EI OLE | P13: =IF(M13="","",IFERROR(INDEX($AK$5:$AO$5,1,MATCH(INDEX(MP!A:A,MATCH(Info!M13,MP!D:D,0),1),$AK$8:$AO$8)),IFERROR(INDEX($AK$5:$AO$5,1,MATCH(INDEX(NP!A:A,MATCH(Info!M13,NP!D:D,0),1),$AK$9:$AO$9)),""))) | Q13: =IF(M13="","",IFERROR(INDEX(MP!F:F,MATCH(Info!M13,MP!D:D,0),1),IFERROR(INDEX(NP!F:F,MATCH(Info!M13,NP!D:D,0),1),"EI OLE"))) -> EI OLE | S13: =IF(M13="","",IFERROR(INDEX($AK$5:$AO$5,1,MATCH(INDEX('SP M'!A:A,MATCH(Info!M13,'SP M'!D:D,0),1),$AK$10:$AO$10)),IFERROR(INDEX($AK$5:$AO$5,1,MATCH(INDEX('SP N'!A:A,MATCH(Info!M13,'SP N'!D:D,0),1),$AK$11:$AO$11)),""))) | T13: =IF(M13="","",IFERROR(INDEX('SP M'!F:F,MATCH(Info!M13,'SP M'!D:D,0),1),IFERROR(INDEX('SP N'!F:F,MATCH(Info!M13,'SP N'!D:D,0),1),"EI OLE"))) -> EI OLE | X13: 8 | Z13: =$N$13 | AA13: =$M$13 -> 0 | AB13: =$O$13 -> EI OLE | AD13: =$L$20 -> 8 | AE13: =$M$20&" - "&$M$21 -> 0 - 0 | AF13: =$R$20 -> 0 | AG13: =$U$20 -> 0
A14: Smash | B14: =IFERROR(COUNTIF(MÜ!C:C,Info!A14),"") -> 0 | C14: =IFERROR(COUNTIF(NÜ!C:C,Info!A14),"") -> 0 | D14: =IFERROR(COUNTIF(MP!C:C,Info!A14),"") -> 1 | E14: =IFERROR(COUNTIF(NP!C:C,Info!A14),"") -> 0 | F14: =IFERROR(COUNTIF('SP M'!C:C,Info!A14),"") -> 0 | G14: =IFERROR(COUNTIF('SP N'!C:C,Info!A14),"") -> 0 | H14: =SUM(B14:G14) -> 1 | L14: 5 | M14: ='[1]SP '!$A$6 -> 0 | N14: =IF(M14="","",IFERROR(INDEX($AK$5:$AO$5,1,MATCH(INDEX(MÜ!A:A,MATCH(Info!M14,MÜ!D:D,0),1),$AK$6:$AO$6)),IFERROR(INDEX($AK$5:$AO$5,1,MATCH(INDEX(NÜ!A:A,MATCH(Info!M14,NÜ!D:D,0),1),$AK$7:$AO$7)),""))) | O14: =IF(M14="","",IFERROR(INDEX(MÜ!F:F,MATCH(Info!M14,MÜ!D:D,0),1),IFERROR(INDEX(NÜ!F:F,MATCH(Info!M14,NÜ!D:D,0),1),"EI OLE"))) -> EI OLE | P14: =IF(M14="","",IFERROR(INDEX($AK$5:$AO$5,1,MATCH(INDEX(MP!A:A,MATCH(Info!M14,MP!D:D,0),1),$AK$8:$AO$8)),IFERROR(INDEX($AK$5:$AO$5,1,MATCH(INDEX(NP!A:A,MATCH(Info!M14,NP!D:D,0),1),$AK$9:$AO$9)),""))) | Q14: =IF(M14="","",IFERROR(INDEX(MP!F:F,MATCH(Info!M14,MP!D:D,0),1),IFERROR(INDEX(NP!F:F,MATCH(Info!M14,NP!D:D,0),1),"EI OLE"))) -> EI OLE | R14: =SUM(Q14:Q15) -> 0 | S14: =IF(M14="","",IFERROR(INDEX($AK$5:$AO$5,1,MATCH(INDEX('SP M'!A:A,MATCH(Info!M14,'SP M'!D:D,0),1),$AK$10:$AO$10)),IFERROR(INDEX($AK$5:$AO$5,1,MATCH(INDEX('SP N'!A:A,MATCH(Info!M14,'SP N'!D:D,0),1),$AK$11:$AO$11)),""))) | T14: =IF(M14="","",IFERROR(INDEX('SP M'!F:F,MATCH(Info!M14,'SP M'!D:D,0),1),IFERROR(INDEX('SP N'!F:F,MATCH(Info!M14,'SP N'!D:D,0),1),"EI OLE"))) -> EI OLE | U14: =SUM(T14:T15) -> 0 | X14: 9 | Z14: =$N$14 | AA14: =$M$14 -> 0 | AB14: =$O$14 -> EI OLE | AD14: =$L$22 -> 9 | AE14: =$M$22&" - "&$M$23 -> 0 - 0 | AF14: =$R$22 -> 0 | AG14: =$U$22 -> 0
A15: Rakvere SK | B15: =IFERROR(COUNTIF(MÜ!C:C,Info!A15),"") -> 0 | C15: =IFERROR(COUNTIF(NÜ!C:C,Info!A15),"") -> 0 | D15: =IFERROR(COUNTIF(MP!C:C,Info!A15),"") -> 0 | E15: =IFERROR(COUNTIF(NP!C:C,Info!A15),"") -> 0 | F15: =IFERROR(COUNTIF('SP M'!C:C,Info!A15),"") -> 0 | G15: =IFERROR(COUNTIF('SP N'!C:C,Info!A15),"") -> 0 | H15: =SUM(B15:G15) -> 0 | I15: 0 | J15: osales kõrgemas tasemeklassis, kuid ei võitnud ühtegi mängu | M15: ='[1]SP '!$B$6 -> 0 | N15: =IF(M15="","",IFERROR(INDEX($AK$5:$AO$5,1,MATCH(INDEX(MÜ!A:A,MATCH(Info!M15,MÜ!D:D,0),1),$AK$6:$AO$6)),IFERROR(INDEX($AK$5:$AO$5,1,MATCH(INDEX(NÜ!A:A,MATCH(Info!M15,NÜ!D:D,0),1),$AK$7:$AO$7)),""))) | O15: =IF(M15="","",IFERROR(INDEX(MÜ!F:F,MATCH(Info!M15,MÜ!D:D,0),1),IFERROR(INDEX(NÜ!F:F,MATCH(Info!M15,NÜ!D:D,0),1),"EI OLE"))) -> EI OLE | P15: =IF(M15="","",IFERROR(INDEX($AK$5:$AO$5,1,MATCH(INDEX(MP!A:A,MATCH(Info!M15,MP!D:D,0),1),$AK$8:$AO$8)),IFERROR(INDEX($AK$5:$AO$5,1,MATCH(INDEX(NP!A:A,MATCH(Info!M15,NP!D:D,0),1),$AK$9:$AO$9)),""))) | Q15: =IF(M15="","",IFERROR(INDEX(MP!F:F,MATCH(Info!M15,MP!D:D,0),1),IFERROR(INDEX(NP!F:F,MATCH(Info!M15,NP!D:D,0),1),"EI OLE"))) -> EI OLE | S15: =IF(M15="","",IFERROR(INDEX($AK$5:$AO$5,1,MATCH(INDEX('SP M'!A:A,MATCH(Info!M15,'SP M'!D:D,0),1),$AK$10:$AO$10)),IFERROR(INDEX($AK$5:$AO$5,1,MATCH(INDEX('SP N'!A:A,MATCH(Info!M15,'SP N'!D:D,0),1),$AK$11:$AO$11)),""))) | T15: =IF(M15="","",IFERROR(INDEX('SP M'!F:F,MATCH(Info!M15,'SP M'!D:D,0),1),IFERROR(INDEX('SP N'!F:F,MATCH(Info!M15,'SP N'!D:D,0),1),"EI OLE"))) -> EI OLE | X15: 10 | Z15: =$N$15 | AA15: =$M$15 -> 0 | AB15: =$O$15 -> EI OLE | AD15: =$L$24 -> 10 | AE15: =$M$24&" - "&$M$25 -> - | AF15: =$R$24 -> 0 | AG15: =$U$24 -> 0
A16: Asimuut | B16: =IFERROR(COUNTIF(MÜ!C:C,Info!A16),"") -> 0 | C16: =IFERROR(COUNTIF(NÜ!C:C,Info!A16),"") -> 0 | D16: =IFERROR(COUNTIF(MP!C:C,Info!A16),"") -> 0 | E16: =IFERROR(COUNTIF(NP!C:C,Info!A16),"") -> 0 | F16: =IFERROR(COUNTIF('SP M'!C:C,Info!A16),"") -> 0 | G16: =IFERROR(COUNTIF('SP N'!C:C,Info!A16),"") -> 0 | H16: =SUM(B16:G16) -> 0 | J16: osales madalamas tasemeklassis | L16: 6 | M16: ='[1]SP '!$A$7 -> 0 | N16: =IF(M16="","",IFERROR(INDEX($AK$5:$AO$5,1,MATCH(INDEX(MÜ!A:A,MATCH(Info!M16,MÜ!D:D,0),1),$AK$6:$AO$6)),IFERROR(INDEX($AK$5:$AO$5,1,MATCH(INDEX(NÜ!A:A,MATCH(Info!M16,NÜ!D:D,0),1),$AK$7:$AO$7)),""))) | O16: =IF(M16="","",IFERROR(INDEX(MÜ!F:F,MATCH(Info!M16,MÜ!D:D,0),1),IFERROR(INDEX(NÜ!F:F,MATCH(Info!M16,NÜ!D:D,0),1),"EI OLE"))) -> EI OLE | P16: =IF(M16="","",IFERROR(INDEX($AK$5:$AO$5,1,MATCH(INDEX(MP!A:A,MATCH(Info!M16,MP!D:D,0),1),$AK$8:$AO$8)),IFERROR(INDEX($AK$5:$AO$5,1,MATCH(INDEX(NP!A:A,MATCH(Info!M16,NP!D:D,0),1),$AK$9:$AO$9)),""))) | Q16: =IF(M16="","",IFERROR(INDEX(MP!F:F,MATCH(Info!M16,MP!D:D,0),1),IFERROR(INDEX(NP!F:F,MATCH(Info!M16,NP!D:D,0),1),"EI OLE"))) -> EI OLE | R16: =SUM(Q16:Q17) -> 0 | S16: =IF(M16="","",IFERROR(INDEX($AK$5:$AO$5,1,MATCH(INDEX('SP M'!A:A,MATCH(Info!M16,'SP M'!D:D,0),1),$AK$10:$AO$10)),IFERROR(INDEX($AK$5:$AO$5,1,MATCH(INDEX('SP N'!A:A,MATCH(Info!M16,'SP N'!D:D,0),1),$AK$11:$AO$11)),""))) | T16: =IF(M16="","",IFERROR(INDEX('SP M'!F:F,MATCH(Info!M16,'SP M'!D:D,0),1),IFERROR(INDEX('SP N'!F:F,MATCH(Info!M16,'SP N'!D:D,0),1),"EI OLE"))) -> EI OLE | U16: =SUM(T16:T17) -> 0 | X16: 11 | Z16: =$N$16 | AA16: =$M$16 -> 0 | AB16: =$O$16 -> EI OLE | AD16: =$L$26 -> 11 | AE16: =$M$26&" - "&$M$27 -> - | AF16: =$R$26 -> 0 | AG16: =$U$26 -> 0
A17: Nõo SK | B17: =IFERROR(COUNTIF(MÜ!C:C,Info!A17),"") -> 2 | C17: =IFERROR(COUNTIF(NÜ!C:C,Info!A17),"") -> 0 | D17: =IFERROR(COUNTIF(MP!C:C,Info!A17),"") -> 1 | E17: =IFERROR(COUNTIF(NP!C:C,Info!A17),"") -> 0 | F17: =IFERROR(COUNTIF('SP M'!C:C,Info!A17),"") -> 1 | G17: =IFERROR(COUNTIF('SP N'!C:C,Info!A17),"") -> 0 | H17: =SUM(B17:G17) -> 4 | M17: ='[1]SP '!$B$7 -> 0 | N17: =IF(M17="","",IFERROR(INDEX($AK$5:$AO$5,1,MATCH(INDEX(MÜ!A:A,MATCH(Info!M17,MÜ!D:D,0),1),$AK$6:$AO$6)),IFERROR(INDEX($AK$5:$AO$5,1,MATCH(INDEX(NÜ!A:A,MATCH(Info!M17,NÜ!D:D,0),1),$AK$7:$AO$7)),""))) | O17: =IF(M17="","",IFERROR(INDEX(MÜ!F:F,MATCH(Info!M17,MÜ!D:D,0),1),IFERROR(INDEX(NÜ!F:F,MATCH(Info!M17,NÜ!D:D,0),1),"EI OLE"))) -> EI OLE | P17: =IF(M17="","",IFERROR(INDEX($AK$5:$AO$5,1,MATCH(INDEX(MP!A:A,MATCH(Info!M17,MP!D:D,0),1),$AK$8:$AO$8)),IFERROR(INDEX($AK$5:$AO$5,1,MATCH(INDEX(NP!A:A,MATCH(Info!M17,NP!D:D,0),1),$AK$9:$AO$9)),""))) | Q17: =IF(M17="","",IFERROR(INDEX(MP!F:F,MATCH(Info!M17,MP!D:D,0),1),IFERROR(INDEX(NP!F:F,MATCH(Info!M17,NP!D:D,0),1),"EI OLE"))) -> EI OLE | S17: =IF(M17="","",IFERROR(INDEX($AK$5:$AO$5,1,MATCH(INDEX('SP M'!A:A,MATCH(Info!M17,'SP M'!D:D,0),1),$AK$10:$AO$10)),IFERROR(INDEX($AK$5:$AO$5,1,MATCH(INDEX('SP N'!A:A,MATCH(Info!M17,'SP N'!D:D,0),1),$AK$11:$AO$11)),""))) | T17: =IF(M17="","",IFERROR(INDEX('SP M'!F:F,MATCH(Info!M17,'SP M'!D:D,0),1),IFERROR(INDEX('SP N'!F:F,MATCH(Info!M17,'SP N'!D:D,0),1),"EI OLE"))) -> EI OLE | X17: 12 | Z17: =$N$17 | AA17: =$M$17 -> 0 | AB17: =$O$17 -> EI OLE | AD17: =$L$28 -> 12 | AE17: =$M$28&" - "&$M$29 -> - | AF17: =$R$28 -> 0 | AG17: =$U$28 -> 0
A18: Kiili | B18: =IFERROR(COUNTIF(MÜ!C:C,Info!A18),"") -> 1 | C18: =IFERROR(COUNTIF(NÜ!C:C,Info!A18),"") -> 0 | D18: =IFERROR(COUNTIF(MP!C:C,Info!A18),"") -> 0 | E18: =IFERROR(COUNTIF(NP!C:C,Info!A18),"") -> 0 | F18: =IFERROR(COUNTIF('SP M'!C:C,Info!A18),"") -> 0 | G18: =IFERROR(COUNTIF('SP N'!C:C,Info!A18),"") -> 0 | H18: =SUM(B18:G18) -> 1 | J18: arvesse läheb 6 paremat võistlust | L18: 7 | M18: ='[1]SP '!$A$8 -> 0 | N18: =IF(M18="","",IFERROR(INDEX($AK$5:$AO$5,1,MATCH(INDEX(MÜ!A:A,MATCH(Info!M18,MÜ!D:D,0),1),$AK$6:$AO$6)),IFERROR(INDEX($AK$5:$AO$5,1,MATCH(INDEX(NÜ!A:A,MATCH(Info!M18,NÜ!D:D,0),1),$AK$7:$AO$7)),""))) | O18: =IF(M18="","",IFERROR(INDEX(MÜ!F:F,MATCH(Info!M18,MÜ!D:D,0),1),IFERROR(INDEX(NÜ!F:F,MATCH(Info!M18,NÜ!D:D,0),1),"EI OLE"))) -> EI OLE | P18: =IF(M18="","",IFERROR(INDEX($AK$5:$AO$5,1,MATCH(INDEX(MP!A:A,MATCH(Info!M18,MP!D:D,0),1),$AK$8:$AO$8)),IFERROR(INDEX($AK$5:$AO$5,1,MATCH(INDEX(NP!A:A,MATCH(Info!M18,NP!D:D,0),1),$AK$9:$AO$9)),""))) | Q18: =IF(M18="","",IFERROR(INDEX(MP!F:F,MATCH(Info!M18,MP!D:D,0),1),IFERROR(INDEX(NP!F:F,MATCH(Info!M18,NP!D:D,0),1),"EI OLE"))) -> EI OLE | R18: =SUM(Q18:Q19) -> 0 | S18: =IF(M18="","",IFERROR(INDEX($AK$5:$AO$5,1,MATCH(INDEX('SP M'!A:A,MATCH(Info!M18,'SP M'!D:D,0),1),$AK$10:$AO$10)),IFERROR(INDEX($AK$5:$AO$5,1,MATCH(INDEX('SP N'!A:A,MATCH(Info!M18,'SP N'!D:D,0),1),$AK$11:$AO$11)),""))) | T18: =IF(M18="","",IFERROR(INDEX('SP M'!F:F,MATCH(Info!M18,'SP M'!D:D,0),1),IFERROR(INDEX('SP N'!F:F,MATCH(Info!M18,'SP N'!D:D,0),1),"EI OLE"))) -> EI OLE | U18: =SUM(T18:T19) -> 0 | X18: 13 | Z18: =$N$18 | AA18: =$M$18 -> 0 | AB18: =$O$18 -> EI OLE | AD18: =$L$30 -> 13 | AE18: =$M$30&" - "&$M$31 -> - | AF18: =$R$30 -> 0 | AG18: =$U$30 -> 0
A19: Aruküla SK | B19: =IFERROR(COUNTIF(MÜ!C:C,Info!A19),"") -> 0 | C19: =IFERROR(COUNTIF(NÜ!C:C,Info!A19),"") -> 0 | D19: =IFERROR(COUNTIF(MP!C:C,Info!A19),"") -> 0 | E19: =IFERROR(COUNTIF(NP!C:C,Info!A19),"") -> 0 | F19: =IFERROR(COUNTIF('SP M'!C:C,Info!A19),"") -> 0 | G19: =IFERROR(COUNTIF('SP N'!C:C,Info!A19),"") -> 0 | H19: =SUM(B19:G19) -> 0 | M19: ='[1]SP '!$B$8 -> 0 | N19: =IF(M19="","",IFERROR(INDEX($AK$5:$AO$5,1,MATCH(INDEX(MÜ!A:A,MATCH(Info!M19,MÜ!D:D,0),1),$AK$6:$AO$6)),IFERROR(INDEX($AK$5:$AO$5,1,MATCH(INDEX(NÜ!A:A,MATCH(Info!M19,NÜ!D:D,0),1),$AK$7:$AO$7)),""))) | O19: =IF(M19="","",IFERROR(INDEX(MÜ!F:F,MATCH(Info!M19,MÜ!D:D,0),1),IFERROR(INDEX(NÜ!F:F,MATCH(Info!M19,NÜ!D:D,0),1),"EI OLE"))) -> EI OLE | P19: =IF(M19="","",IFERROR(INDEX($AK$5:$AO$5,1,MATCH(INDEX(MP!A:A,MATCH(Info!M19,MP!D:D,0),1),$AK$8:$AO$8)),IFERROR(INDEX($AK$5:$AO$5,1,MATCH(INDEX(NP!A:A,MATCH(Info!M19,NP!D:D,0),1),$AK$9:$AO$9)),""))) | Q19: =IF(M19="","",IFERROR(INDEX(MP!F:F,MATCH(Info!M19,MP!D:D,0),1),IFERROR(INDEX(NP!F:F,MATCH(Info!M19,NP!D:D,0),1),"EI OLE"))) -> EI OLE | S19: =IF(M19="","",IFERROR(INDEX($AK$5:$AO$5,1,MATCH(INDEX('SP M'!A:A,MATCH(Info!M19,'SP M'!D:D,0),1),$AK$10:$AO$10)),IFERROR(INDEX($AK$5:$AO$5,1,MATCH(INDEX('SP N'!A:A,MATCH(Info!M19,'SP N'!D:D,0),1),$AK$11:$AO$11)),""))) | T19: =IF(M19="","",IFERROR(INDEX('SP M'!F:F,MATCH(Info!M19,'SP M'!D:D,0),1),IFERROR(INDEX('SP N'!F:F,MATCH(Info!M19,'SP N'!D:D,0),1),"EI OLE"))) -> EI OLE | X19: 14 | Z19: =$N$19 | AA19: =$M$19 -> 0 | AB19: =$O$19 -> EI OLE | AD19: =$L$32 -> 14 | AE19: =$M$32&" - "&$M$33 -> - | AF19: =$R$32 -> 0 | AG19: =$U$32 -> 0
A20: TalTech | B20: =IFERROR(COUNTIF(MÜ!C:C,Info!A20),"") -> 0 | C20: =IFERROR(COUNTIF(NÜ!C:C,Info!A20),"") -> 0 | D20: =IFERROR(COUNTIF(MP!C:C,Info!A20),"") -> 0 | E20: =IFERROR(COUNTIF(NP!C:C,Info!A20),"") -> 0 | F20: =IFERROR(COUNTIF('SP M'!C:C,Info!A20),"") -> 0 | G20: =IFERROR(COUNTIF('SP N'!C:C,Info!A20),"") -> 0 | H20: =SUM(B20:G20) -> 0 | L20: 8 | M20: ='[1]SP '!$A$9 -> 0 | N20: =IF(M20="","",IFERROR(INDEX($AK$5:$AO$5,1,MATCH(INDEX(MÜ!A:A,MATCH(Info!M20,MÜ!D:D,0),1),$AK$6:$AO$6)),IFERROR(INDEX($AK$5:$AO$5,1,MATCH(INDEX(NÜ!A:A,MATCH(Info!M20,NÜ!D:D,0),1),$AK$7:$AO$7)),""))) | O20: =IF(M20="","",IFERROR(INDEX(MÜ!F:F,MATCH(Info!M20,MÜ!D:D,0),1),IFERROR(INDEX(NÜ!F:F,MATCH(Info!M20,NÜ!D:D,0),1),"EI OLE"))) -> EI OLE | P20: =IF(M20="","",IFERROR(INDEX($AK$5:$AO$5,1,MATCH(INDEX(MP!A:A,MATCH(Info!M20,MP!D:D,0),1),$AK$8:$AO$8)),IFERROR(INDEX($AK$5:$AO$5,1,MATCH(INDEX(NP!A:A,MATCH(Info!M20,NP!D:D,0),1),$AK$9:$AO$9)),""))) | Q20: =IF(M20="","",IFERROR(INDEX(MP!F:F,MATCH(Info!M20,MP!D:D,0),1),IFERROR(INDEX(NP!F:F,MATCH(Info!M20,NP!D:D,0),1),"EI OLE"))) -> EI OLE | R20: =SUM(Q20:Q21) -> 0 | S20: =IF(M20="","",IFERROR(INDEX($AK$5:$AO$5,1,MATCH(INDEX('SP M'!A:A,MATCH(Info!M20,'SP M'!D:D,0),1),$AK$10:$AO$10)),IFERROR(INDEX($AK$5:$AO$5,1,MATCH(INDEX('SP N'!A:A,MATCH(Info!M20,'SP N'!D:D,0),1),$AK$11:$AO$11)),""))) | T20: =IF(M20="","",IFERROR(INDEX('SP M'!F:F,MATCH(Info!M20,'SP M'!D:D,0),1),IFERROR(INDEX('SP N'!F:F,MATCH(Info!M20,'SP N'!D:D,0),1),"EI OLE"))) -> EI OLE | U20: =SUM(T20:T21) -> 0 | X20: 15 | Z20: =$N$20 | AA20: =$M$20 -> 0 | AB20: =$O$20 -> EI OLE | AD20: =$L$34 -> 15 | AE20: =$M$34&" - "&$M$35 -> - | AF20: =$R$34 -> 0 | AG20: =$U$34 -> 0
A21: Võru SK | B21: =IFERROR(COUNTIF(MÜ!C:C,Info!A21),"") -> 0 | C21: =IFERROR(COUNTIF(NÜ!C:C,Info!A21),"") -> 0 | D21: =IFERROR(COUNTIF(MP!C:C,Info!A21),"") -> 0 | E21: =IFERROR(COUNTIF(NP!C:C,Info!A21),"") -> 2 | F21: =IFERROR(COUNTIF('SP M'!C:C,Info!A21),"") -> 1 | G21: =IFERROR(COUNTIF('SP N'!C:C,Info!A21),"") -> 1 | H21: =SUM(B21:G21) -> 4 | M21: ='[1]SP '!$B$9 -> 0 | N21: =IF(M21="","",IFERROR(INDEX($AK$5:$AO$5,1,MATCH(INDEX(MÜ!A:A,MATCH(Info!M21,MÜ!D:D,0),1),$AK$6:$AO$6)),IFERROR(INDEX($AK$5:$AO$5,1,MATCH(INDEX(NÜ!A:A,MATCH(Info!M21,NÜ!D:D,0),1),$AK$7:$AO$7)),""))) | O21: =IF(M21="","",IFERROR(INDEX(MÜ!F:F,MATCH(Info!M21,MÜ!D:D,0),1),IFERROR(INDEX(NÜ!F:F,MATCH(Info!M21,NÜ!D:D,0),1),"EI OLE"))) -> EI OLE | P21: =IF(M21="","",IFERROR(INDEX($AK$5:$AO$5,1,MATCH(INDEX(MP!A:A,MATCH(Info!M21,MP!D:D,0),1),$AK$8:$AO$8)),IFERROR(INDEX($AK$5:$AO$5,1,MATCH(INDEX(NP!A:A,MATCH(Info!M21,NP!D:D,0),1),$AK$9:$AO$9)),""))) | Q21: =IF(M21="","",IFERROR(INDEX(MP!F:F,MATCH(Info!M21,MP!D:D,0),1),IFERROR(INDEX(NP!F:F,MATCH(Info!M21,NP!D:D,0),1),"EI OLE"))) -> EI OLE | S21: =IF(M21="","",IFERROR(INDEX($AK$5:$AO$5,1,MATCH(INDEX('SP M'!A:A,MATCH(Info!M21,'SP M'!D:D,0),1),$AK$10:$AO$10)),IFERROR(INDEX($AK$5:$AO$5,1,MATCH(INDEX('SP N'!A:A,MATCH(Info!M21,'SP N'!D:D,0),1),$AK$11:$AO$11)),""))) | T21: =IF(M21="","",IFERROR(INDEX('SP M'!F:F,MATCH(Info!M21,'SP M'!D:D,0),1),IFERROR(INDEX('SP N'!F:F,MATCH(Info!M21,'SP N'!D:D,0),1),"EI OLE"))) -> EI OLE | X21: 16 | Z21: =$N$21 | AA21: =$M$21 -> 0 | AB21: =$O$21 -> EI OLE | AD21: =$L$36 -> 16 | AE21: =$M$36&" - "&$M$37 -> - | AF21: =$R$36 -> 0 | AG21: =$U$36 -> 0
A22: Tallinna Kalev | B22: =IFERROR(COUNTIF(MÜ!C:C,Info!A22),"") -> 0 | C22: =IFERROR(COUNTIF(NÜ!C:C,Info!A22),"") -> 0 | D22: =IFERROR(COUNTIF(MP!C:C,Info!A22),"") -> 1 | E22: =IFERROR(COUNTIF(NP!C:C,Info!A22),"") -> 2 | F22: =IFERROR(COUNTIF('SP M'!C:C,Info!A22),"") -> 1 | G22: =IFERROR(COUNTIF('SP N'!C:C,Info!A22),"") -> 1 | H22: =SUM(B22:G22) -> 5 | L22: 9 | M22: ='[1]SP '!$A$10 -> 0 | N22: =IF(M22="","",IFERROR(INDEX($AK$5:$AO$5,1,MATCH(INDEX(MÜ!A:A,MATCH(Info!M22,MÜ!D:D,0),1),$AK$6:$AO$6)),IFERROR(INDEX($AK$5:$AO$5,1,MATCH(INDEX(NÜ!A:A,MATCH(Info!M22,NÜ!D:D,0),1),$AK$7:$AO$7)),""))) | O22: =IF(M22="","",IFERROR(INDEX(MÜ!F:F,MATCH(Info!M22,MÜ!D:D,0),1),IFERROR(INDEX(NÜ!F:F,MATCH(Info!M22,NÜ!D:D,0),1),"EI OLE"))) -> EI OLE | P22: =IF(M22="","",IFERROR(INDEX($AK$5:$AO$5,1,MATCH(INDEX(MP!A:A,MATCH(Info!M22,MP!D:D,0),1),$AK$8:$AO$8)),IFERROR(INDEX($AK$5:$AO$5,1,MATCH(INDEX(NP!A:A,MATCH(Info!M22,NP!D:D,0),1),$AK$9:$AO$9)),""))) | Q22: =IF(M22="","",IFERROR(INDEX(MP!F:F,MATCH(Info!M22,MP!D:D,0),1),IFERROR(INDEX(NP!F:F,MATCH(Info!M22,NP!D:D,0),1),"EI OLE"))) -> EI OLE | R22: =SUM(Q22:Q23) -> 0 | S22: =IF(M22="","",IFERROR(INDEX($AK$5:$AO$5,1,MATCH(INDEX('SP M'!A:A,MATCH(Info!M22,'SP M'!D:D,0),1),$AK$10:$AO$10)),IFERROR(INDEX($AK$5:$AO$5,1,MATCH(INDEX('SP N'!A:A,MATCH(Info!M22,'SP N'!D:D,0),1),$AK$11:$AO$11)),""))) | T22: =IF(M22="","",IFERROR(INDEX('SP M'!F:F,MATCH(Info!M22,'SP M'!D:D,0),1),IFERROR(INDEX('SP N'!F:F,MATCH(Info!M22,'SP N'!D:D,0),1),"EI OLE"))) -> EI OLE | U22: =SUM(T22:T23) -> 0 | X22: 17 | Z22: =$N$22 | AA22: =$M$22 -> 0 | AB22: =$O$22 -> EI OLE | AD22: =$L$38 -> 17 | AE22: =$M$38&" - "&$M$39 -> - | AF22: =$R$38 -> 0 | AG22: =$U$38 -> 0
A23: Anija Sulgpalliklubi | B23: =IFERROR(COUNTIF(MÜ!C:C,Info!A23),"") -> 0 | C23: =IFERROR(COUNTIF(NÜ!C:C,Info!A23),"") -> 0 | D23: =IFERROR(COUNTIF(MP!C:C,Info!A23),"") -> 0 | E23: =IFERROR(COUNTIF(NP!C:C,Info!A23),"") -> 0 | F23: =IFERROR(COUNTIF('SP M'!C:C,Info!A23),"") -> 0 | G23: =IFERROR(COUNTIF('SP N'!C:C,Info!A23),"") -> 0 | H23: =SUM(B23:G23) -> 0 | M23: ='[1]SP '!$B$10 -> 0 | N23: =IF(M23="","",IFERROR(INDEX($AK$5:$AO$5,1,MATCH(INDEX(MÜ!A:A,MATCH(Info!M23,MÜ!D:D,0),1),$AK$6:$AO$6)),IFERROR(INDEX($AK$5:$AO$5,1,MATCH(INDEX(NÜ!A:A,MATCH(Info!M23,NÜ!D:D,0),1),$AK$7:$AO$7)),""))) | O23: =IF(M23="","",IFERROR(INDEX(MÜ!F:F,MATCH(Info!M23,MÜ!D:D,0),1),IFERROR(INDEX(NÜ!F:F,MATCH(Info!M23,NÜ!D:D,0),1),"EI OLE"))) -> EI OLE | P23: =IF(M23="","",IFERROR(INDEX($AK$5:$AO$5,1,MATCH(INDEX(MP!A:A,MATCH(Info!M23,MP!D:D,0),1),$AK$8:$AO$8)),IFERROR(INDEX($AK$5:$AO$5,1,MATCH(INDEX(NP!A:A,MATCH(Info!M23,NP!D:D,0),1),$AK$9:$AO$9)),""))) | Q23: =IF(M23="","",IFERROR(INDEX(MP!F:F,MATCH(Info!M23,MP!D:D,0),1),IFERROR(INDEX(NP!F:F,MATCH(Info!M23,NP!D:D,0),1),"EI OLE"))) -> EI OLE | S23: =IF(M23="","",IFERROR(INDEX($AK$5:$AO$5,1,MATCH(INDEX('SP M'!A:A,MATCH(Info!M23,'SP M'!D:D,0),1),$AK$10:$AO$10)),IFERROR(INDEX($AK$5:$AO$5,1,MATCH(INDEX('SP N'!A:A,MATCH(Info!M23,'SP N'!D:D,0),1),$AK$11:$AO$11)),""))) | T23: =IF(M23="","",IFERROR(INDEX('SP M'!F:F,MATCH(Info!M23,'SP M'!D:D,0),1),IFERROR(INDEX('SP N'!F:F,MATCH(Info!M23,'SP N'!D:D,0),1),"EI OLE"))) -> EI OLE | X23: 18 | Z23: =$N$23 | AA23: =$M$23 -> 0 | AB23: =$O$23 -> EI OLE | AD23: =$L$40 -> 18 | AE23: =$M$40&" - "&$M$41 -> - | AF23: =$R$40 -> 0 | AG23: =$U$40 -> 0
A24: Jõhvi SK | B24: =IFERROR(COUNTIF(MÜ!C:C,Info!A24),"") -> 0 | C24: =IFERROR(COUNTIF(NÜ!C:C,Info!A24),"") -> 0 | D24: =IFERROR(COUNTIF(MP!C:C,Info!A24),"") -> 0 | E24: =IFERROR(COUNTIF(NP!C:C,Info!A24),"") -> 0 | F24: =IFERROR(COUNTIF('SP M'!C:C,Info!A24),"") -> 0 | G24: =IFERROR(COUNTIF('SP N'!C:C,Info!A24),"") -> 0 | H24: =SUM(B24:G24) -> 0 | L24: 10 | N24: =IF(M24="","",IFERROR(INDEX($AK$5:$AO$5,1,MATCH(INDEX(MÜ!A:A,MATCH(Info!M24,MÜ!D:D,0),1),$AK$6:$AO$6)),IFERROR(INDEX($AK$5:$AO$5,1,MATCH(INDEX(NÜ!A:A,MATCH(Info!M24,NÜ!D:D,0),1),$AK$7:$AO$7)),""))) | O24: =IF(M24="","",IFERROR(INDEX(MÜ!F:F,MATCH(Info!M24,MÜ!D:D,0),1),IFERROR(INDEX(NÜ!F:F,MATCH(Info!M24,NÜ!D:D,0),1),"EI OLE"))) | P24: =IF(M24="","",IFERROR(INDEX($AK$5:$AO$5,1,MATCH(INDEX(MP!A:A,MATCH(Info!M24,MP!D:D,0),1),$AK$8:$AO$8)),IFERROR(INDEX($AK$5:$AO$5,1,MATCH(INDEX(NP!A:A,MATCH(Info!M24,NP!D:D,0),1),$AK$9:$AO$9)),""))) | Q24: =IF(M24="","",IFERROR(INDEX(MP!F:F,MATCH(Info!M24,MP!D:D,0),1),IFERROR(INDEX(NP!F:F,MATCH(Info!M24,NP!D:D,0),1),"EI OLE"))) | R24: =SUM(Q24:Q25) -> 0 | S24: =IF(M24="","",IFERROR(INDEX($AK$5:$AO$5,1,MATCH(INDEX('SP M'!A:A,MATCH(Info!M24,'SP M'!D:D,0),1),$AK$10:$AO$10)),IFERROR(INDEX($AK$5:$AO$5,1,MATCH(INDEX('SP N'!A:A,MATCH(Info!M24,'SP N'!D:D,0),1),$AK$11:$AO$11)),""))) | T24: =IF(M24="","",IFERROR(INDEX('SP M'!F:F,MATCH(Info!M24,'SP M'!D:D,0),1),IFERROR(INDEX('SP N'!F:F,MATCH(Info!M24,'SP N'!D:D,0),1),"EI OLE"))) | U24: =SUM(T24:T25) -> 0 | X24: 19 | Z24: =$N$24 | AA24: =$M$24 -> 0 | AB24: =$O$24 | AD24: =$L$42 -> 19 | AE24: =$M$42&" - "&$M$43 -> - | AF24: =$R$42 -> 0 | AG24: =$U$42 -> 0
A25: Viljandi Sulelised | B25: =IFERROR(COUNTIF(MÜ!C:C,Info!A25),"") -> 0 | C25: =IFERROR(COUNTIF(NÜ!C:C,Info!A25),"") -> 0 | D25: =IFERROR(COUNTIF(MP!C:C,Info!A25),"") -> 0 | E25: =IFERROR(COUNTIF(NP!C:C,Info!A25),"") -> 0 | F25: =IFERROR(COUNTIF('SP M'!C:C,Info!A25),"") -> 0 | G25: =IFERROR(COUNTIF('SP N'!C:C,Info!A25),"") -> 0 | H25: =SUM(B25:G25) -> 0 | N25: =IF(M25="","",IFERROR(INDEX($AK$5:$AO$5,1,MATCH(INDEX(MÜ!A:A,MATCH(Info!M25,MÜ!D:D,0),1),$AK$6:$AO$6)),IFERROR(INDEX($AK$5:$AO$5,1,MATCH(INDEX(NÜ!A:A,MATCH(Info!M25,NÜ!D:D,0),1),$AK$7:$AO$7)),""))) | O25: =IF(M25="","",IFERROR(INDEX(MÜ!F:F,MATCH(Info!M25,MÜ!D:D,0),1),IFERROR(INDEX(NÜ!F:F,MATCH(Info!M25,NÜ!D:D,0),1),"EI OLE"))) | P25: =IF(M25="","",IFERROR(INDEX($AK$5:$AO$5,1,MATCH(INDEX(MP!A:A,MATCH(Info!M25,MP!D:D,0),1),$AK$8:$AO$8)),IFERROR(INDEX($AK$5:$AO$5,1,MATCH(INDEX(NP!A:A,MATCH(Info!M25,NP!D:D,0),1),$AK$9:$AO$9)),""))) | Q25: =IF(M25="","",IFERROR(INDEX(MP!F:F,MATCH(Info!M25,MP!D:D,0),1),IFERROR(INDEX(NP!F:F,MATCH(Info!M25,NP!D:D,0),1),"EI OLE"))) | S25: =IF(M25="","",IFERROR(INDEX($AK$5:$AO$5,1,MATCH(INDEX('SP M'!A:A,MATCH(Info!M25,'SP M'!D:D,0),1),$AK$10:$AO$10)),IFERROR(INDEX($AK$5:$AO$5,1,MATCH(INDEX('SP N'!A:A,MATCH(Info!M25,'SP N'!D:D,0),1),$AK$11:$AO$11)),""))) | T25: =IF(M25="","",IFERROR(INDEX('SP M'!F:F,MATCH(Info!M25,'SP M'!D:D,0),1),IFERROR(INDEX('SP N'!F:F,MATCH(Info!M25,'SP N'!D:D,0),1),"EI OLE"))) | X25: 20 | Z25: =$N$25 | AA25: =$M$25 -> 0 | AB25: =$O$25 | AD25: =$L$44 -> 20 | AE25: =$M$44&" - "&$M$45 -> - | AF25: =$R$44 -> 0 | AG25: =$U$44 -> 0
